BEGIN:VCALENDAR
VERSION:2.0
PRODID:-//Auckland Speleo Group - ECPv4.6.21//NONSGML v1.0//EN
CALSCALE:GREGORIAN
METHOD:PUBLISH
X-WR-CALNAME:Auckland Speleo Group
X-ORIGINAL-URL:https://asg.org.nz
X-WR-CALDESC:Events for Auckland Speleo Group
BEGIN:VEVENT
DTSTART;TZID=Pacific/Auckland:20181127T190000
DTEND;TZID=Pacific/Auckland:20181127T210000
DTSTAMP:20181221T213614
CREATED:20180628T075730Z
LAST-MODIFIED:20180628T075730Z
UID:538-1543345200-1543352400@asg.org.nz
SUMMARY:ASG Club Night November 2018
DESCRIPTION:Join us at the Remuera Club for tall stories\, lies and milk with cookies… \n
URL:https://asg.org.nz/trips/asg-club-night-november-2018/
LOCATION:27-33 Ohinerau St\, Remuera\, Auckland\, 1050\, New Zealand
CATEGORIES:Club night
END:VEVENT
END:VCALENDAR