BEGIN:VCALENDAR
VERSION:2.0
PRODID:-//Auckland Speleo Group - ECPv6.15.13.1//NONSGML v1.0//EN
CALSCALE:GREGORIAN
METHOD:PUBLISH
X-WR-CALNAME:Auckland Speleo Group
X-ORIGINAL-URL:https://asg.org.nz
X-WR-CALDESC:Events for Auckland Speleo Group
REFRESH-INTERVAL;VALUE=DURATION:PT1H
X-Robots-Tag:noindex
X-PUBLISHED-TTL:PT1H
BEGIN:VTIMEZONE
TZID:Pacific/Auckland
BEGIN:STANDARD
TZOFFSETFROM:+1300
TZOFFSETTO:+1200
TZNAME:NZST
DTSTART:20140405T140000
END:STANDARD
BEGIN:DAYLIGHT
TZOFFSETFROM:+1200
TZOFFSETTO:+1300
TZNAME:NZDT
DTSTART:20140927T140000
END:DAYLIGHT
BEGIN:STANDARD
TZOFFSETFROM:+1300
TZOFFSETTO:+1200
TZNAME:NZST
DTSTART:20150404T140000
END:STANDARD
BEGIN:DAYLIGHT
TZOFFSETFROM:+1200
TZOFFSETTO:+1300
TZNAME:NZDT
DTSTART:20150926T140000
END:DAYLIGHT
BEGIN:STANDARD
TZOFFSETFROM:+1300
TZOFFSETTO:+1200
TZNAME:NZST
DTSTART:20160402T140000
END:STANDARD
BEGIN:DAYLIGHT
TZOFFSETFROM:+1200
TZOFFSETTO:+1300
TZNAME:NZDT
DTSTART:20160924T140000
END:DAYLIGHT
END:VTIMEZONE
BEGIN:VEVENT
DTSTART;TZID=Pacific/Auckland:20150202T183000
DTEND;TZID=Pacific/Auckland:20150202T210000
DTSTAMP:20260426T110552
CREATED:20141117T060252Z
LAST-MODIFIED:20150112T194727Z
UID:172-1422901800-1422910800@asg.org.nz
SUMMARY:Club Night Febuary 2015
DESCRIPTION:Monthly Club Night.  Tonight is a social BBQ picnic at the Western Springs Park.  BYO and enjoy!
URL:https://asg.org.nz/trips/club-night-november-2014/
LOCATION:Western Springs Park\, 731 Great North Road\, Auckland\, New Zealand
CATEGORIES:Club night
END:VEVENT
BEGIN:VEVENT
DTSTART;TZID=Pacific/Auckland:20150223T193000
DTEND;TZID=Pacific/Auckland:20150223T220000
DTSTAMP:20260426T110552
CREATED:20150112T195258Z
LAST-MODIFIED:20150112T195258Z
UID:183-1424719800-1424728800@asg.org.nz
SUMMARY:Club Night February 2015
DESCRIPTION:Club night at the Normanby Hotel\, Mt Eden.
URL:https://asg.org.nz/trips/club-night-february-2015/
LOCATION:Normanby Hotel\, 37 Normanby Rd\, Mt Eden\, Auckland\, Auckland\, New Zealand
CATEGORIES:Club night
END:VEVENT
END:VCALENDAR