BEGIN:VCALENDAR
VERSION:2.0
PRODID:-//Auckland Speleo Group - ECPv6.15.13.1//NONSGML v1.0//EN
CALSCALE:GREGORIAN
METHOD:PUBLISH
X-ORIGINAL-URL:https://asg.org.nz
X-WR-CALDESC:Events for Auckland Speleo Group
REFRESH-INTERVAL;VALUE=DURATION:PT1H
X-Robots-Tag:noindex
X-PUBLISHED-TTL:PT1H
BEGIN:VTIMEZONE
TZID:Pacific/Auckland
BEGIN:STANDARD
TZOFFSETFROM:+1300
TZOFFSETTO:+1200
TZNAME:NZST
DTSTART:20140405T140000
END:STANDARD
BEGIN:DAYLIGHT
TZOFFSETFROM:+1200
TZOFFSETTO:+1300
TZNAME:NZDT
DTSTART:20140927T140000
END:DAYLIGHT
BEGIN:STANDARD
TZOFFSETFROM:+1300
TZOFFSETTO:+1200
TZNAME:NZST
DTSTART:20150404T140000
END:STANDARD
BEGIN:DAYLIGHT
TZOFFSETFROM:+1200
TZOFFSETTO:+1300
TZNAME:NZDT
DTSTART:20150926T140000
END:DAYLIGHT
BEGIN:STANDARD
TZOFFSETFROM:+1300
TZOFFSETTO:+1200
TZNAME:NZST
DTSTART:20160402T140000
END:STANDARD
BEGIN:DAYLIGHT
TZOFFSETFROM:+1200
TZOFFSETTO:+1300
TZNAME:NZDT
DTSTART:20160924T140000
END:DAYLIGHT
END:VTIMEZONE
BEGIN:VEVENT
DTSTART;TZID=Pacific/Auckland:20150928T190000
DTEND;TZID=Pacific/Auckland:20150928T220000
DTSTAMP:20260425T222355
CREATED:20150726T054717Z
LAST-MODIFIED:20150726T054717Z
UID:230-1443466800-1443477600@asg.org.nz
SUMMARY:ASG Club night AGM September 2015
DESCRIPTION:This is the ASG AGM evening\, this year is to be held at The Dominion Bar\, 234 Dominion Road\, Mt Eden. \nPer tradition\, the evening will begin with dinner at 7pm for those that wish to\, and the meeting will follow from 8pm.  You will be pleased to note the mains will be half price!
URL:https://asg.org.nz/trips/asg-club-night-agm-september-2015/
LOCATION:The Dominion Bar\, 234 Dominion Road\, Mt Eden\, Auckland\, 1024\, New Zealand
CATEGORIES:Club night
END:VEVENT
END:VCALENDAR