BEGIN:VCALENDAR
VERSION:2.0
PRODID:-//Auckland Speleo Group - ECPv6.15.13.1//NONSGML v1.0//EN
CALSCALE:GREGORIAN
METHOD:PUBLISH
X-WR-CALNAME:Auckland Speleo Group
X-ORIGINAL-URL:https://asg.org.nz
X-WR-CALDESC:Events for Auckland Speleo Group
REFRESH-INTERVAL;VALUE=DURATION:PT1H
X-Robots-Tag:noindex
X-PUBLISHED-TTL:PT1H
BEGIN:VTIMEZONE
TZID:Pacific/Auckland
BEGIN:STANDARD
TZOFFSETFROM:+1300
TZOFFSETTO:+1200
TZNAME:NZST
DTSTART:20160402T140000
END:STANDARD
BEGIN:DAYLIGHT
TZOFFSETFROM:+1200
TZOFFSETTO:+1300
TZNAME:NZDT
DTSTART:20160924T140000
END:DAYLIGHT
BEGIN:STANDARD
TZOFFSETFROM:+1300
TZOFFSETTO:+1200
TZNAME:NZST
DTSTART:20170401T140000
END:STANDARD
BEGIN:DAYLIGHT
TZOFFSETFROM:+1200
TZOFFSETTO:+1300
TZNAME:NZDT
DTSTART:20170923T140000
END:DAYLIGHT
BEGIN:STANDARD
TZOFFSETFROM:+1300
TZOFFSETTO:+1200
TZNAME:NZST
DTSTART:20180331T140000
END:STANDARD
BEGIN:DAYLIGHT
TZOFFSETFROM:+1200
TZOFFSETTO:+1300
TZNAME:NZDT
DTSTART:20180929T140000
END:DAYLIGHT
END:VTIMEZONE
BEGIN:VEVENT
DTSTART;TZID=Pacific/Auckland:20170626T193000
DTEND;TZID=Pacific/Auckland:20170626T210000
DTSTAMP:20260425T022830
CREATED:20161209T233843Z
LAST-MODIFIED:20161209T233843Z
UID:383-1498505400-1498510800@asg.org.nz
SUMMARY:ASG Club Night June 2017
DESCRIPTION:Our monthly meeting\, The Dominion Bar on 234 Dominion Road\, Mt Eden. \nFor any keen punters who would like to try the food on offer\, suggest catching up an hour before to try a meal\, mains will be half price.
URL:https://asg.org.nz/trips/asg-club-night-june-2017/
LOCATION:The Dominion Bar\, 234 Dominion Road\, Mt Eden\, Auckland\, 1024\, New Zealand
CATEGORIES:Club night
END:VEVENT
END:VCALENDAR