BEGIN:VCALENDAR
VERSION:2.0
PRODID:-//Auckland Speleo Group - ECPv6.15.13.1//NONSGML v1.0//EN
CALSCALE:GREGORIAN
METHOD:PUBLISH
X-ORIGINAL-URL:https://asg.org.nz
X-WR-CALDESC:Events for Auckland Speleo Group
REFRESH-INTERVAL;VALUE=DURATION:PT1H
X-Robots-Tag:noindex
X-PUBLISHED-TTL:PT1H
BEGIN:VTIMEZONE
TZID:Pacific/Auckland
BEGIN:STANDARD
TZOFFSETFROM:+1300
TZOFFSETTO:+1200
TZNAME:NZST
DTSTART:20180331T140000
END:STANDARD
BEGIN:DAYLIGHT
TZOFFSETFROM:+1200
TZOFFSETTO:+1300
TZNAME:NZDT
DTSTART:20180929T140000
END:DAYLIGHT
BEGIN:STANDARD
TZOFFSETFROM:+1300
TZOFFSETTO:+1200
TZNAME:NZST
DTSTART:20190406T140000
END:STANDARD
BEGIN:DAYLIGHT
TZOFFSETFROM:+1200
TZOFFSETTO:+1300
TZNAME:NZDT
DTSTART:20190928T140000
END:DAYLIGHT
BEGIN:STANDARD
TZOFFSETFROM:+1300
TZOFFSETTO:+1200
TZNAME:NZST
DTSTART:20200404T140000
END:STANDARD
BEGIN:DAYLIGHT
TZOFFSETFROM:+1200
TZOFFSETTO:+1300
TZNAME:NZDT
DTSTART:20200926T140000
END:DAYLIGHT
END:VTIMEZONE
BEGIN:VEVENT
DTSTART;TZID=Pacific/Auckland:20190924T180000
DTEND;TZID=Pacific/Auckland:20190924T210000
DTSTAMP:20260425T040713
CREATED:20190622T060204Z
LAST-MODIFIED:20190622T060347Z
UID:669-1569348000-1569358800@asg.org.nz
SUMMARY:ASG Club Night September 2019 - AGM
DESCRIPTION:Join us at the Remuera Club for some brief seriousness\, then tall stories\, awards with lies and milk with cookies… \n 
URL:https://asg.org.nz/trips/asg-club-night-september-2019-agm/
LOCATION:Remuera Club\, 27-33 Ohinerau St\, Remuera\, Auckland\, 1050\, New Zealand
CATEGORIES:Club night
ORGANIZER;CN="INFO":MAILTO:info@asg.org.nz
END:VEVENT
END:VCALENDAR