BEGIN:VCALENDAR
VERSION:2.0
PRODID:-//Auckland Speleo Group - ECPv6.15.13.1//NONSGML v1.0//EN
CALSCALE:GREGORIAN
METHOD:PUBLISH
X-WR-CALNAME:Auckland Speleo Group
X-ORIGINAL-URL:https://asg.org.nz
X-WR-CALDESC:Events for Auckland Speleo Group
REFRESH-INTERVAL;VALUE=DURATION:PT1H
X-Robots-Tag:noindex
X-PUBLISHED-TTL:PT1H
BEGIN:VTIMEZONE
TZID:Pacific/Auckland
BEGIN:STANDARD
TZOFFSETFROM:+1300
TZOFFSETTO:+1200
TZNAME:NZST
DTSTART:20160402T140000
END:STANDARD
BEGIN:DAYLIGHT
TZOFFSETFROM:+1200
TZOFFSETTO:+1300
TZNAME:NZDT
DTSTART:20160924T140000
END:DAYLIGHT
BEGIN:STANDARD
TZOFFSETFROM:+1300
TZOFFSETTO:+1200
TZNAME:NZST
DTSTART:20170401T140000
END:STANDARD
BEGIN:DAYLIGHT
TZOFFSETFROM:+1200
TZOFFSETTO:+1300
TZNAME:NZDT
DTSTART:20170923T140000
END:DAYLIGHT
BEGIN:STANDARD
TZOFFSETFROM:+1300
TZOFFSETTO:+1200
TZNAME:NZST
DTSTART:20180331T140000
END:STANDARD
BEGIN:DAYLIGHT
TZOFFSETFROM:+1200
TZOFFSETTO:+1300
TZNAME:NZDT
DTSTART:20180929T140000
END:DAYLIGHT
END:VTIMEZONE
BEGIN:VEVENT
DTSTART;TZID=Pacific/Auckland:20170123T180000
DTEND;TZID=Pacific/Auckland:20170123T210000
DTSTAMP:20260425T021453
CREATED:20161209T232800Z
LAST-MODIFIED:20161209T233156Z
UID:376-1485194400-1485205200@asg.org.nz
SUMMARY:ASG Club Night Beach Picnic January 2017
DESCRIPTION:Soak up the sun for a fresh new years summer start with a beach picnic\, chance to catch up with tall stories from the Xmas/New Years period\, and resolutions for the new year! \nBYO – for all the family!
URL:https://asg.org.nz/trips/asg-beach-picnic/
LOCATION:Point Chevalier Beach\, Harbour View Rd\, Point Chevalier\, Auckland\, 1022\, New Zealand
CATEGORIES:Day trip
END:VEVENT
END:VCALENDAR