BEGIN:VCALENDAR
VERSION:2.0
PRODID:-//Auckland Speleo Group - ECPv6.15.13.1//NONSGML v1.0//EN
CALSCALE:GREGORIAN
METHOD:PUBLISH
X-ORIGINAL-URL:https://asg.org.nz
X-WR-CALDESC:Events for Auckland Speleo Group
REFRESH-INTERVAL;VALUE=DURATION:PT1H
X-Robots-Tag:noindex
X-PUBLISHED-TTL:PT1H
BEGIN:VTIMEZONE
TZID:Pacific/Auckland
BEGIN:STANDARD
TZOFFSETFROM:+1300
TZOFFSETTO:+1200
TZNAME:NZST
DTSTART:20140405T140000
END:STANDARD
BEGIN:DAYLIGHT
TZOFFSETFROM:+1200
TZOFFSETTO:+1300
TZNAME:NZDT
DTSTART:20140927T140000
END:DAYLIGHT
BEGIN:STANDARD
TZOFFSETFROM:+1300
TZOFFSETTO:+1200
TZNAME:NZST
DTSTART:20150404T140000
END:STANDARD
BEGIN:DAYLIGHT
TZOFFSETFROM:+1200
TZOFFSETTO:+1300
TZNAME:NZDT
DTSTART:20150926T140000
END:DAYLIGHT
BEGIN:STANDARD
TZOFFSETFROM:+1300
TZOFFSETTO:+1200
TZNAME:NZST
DTSTART:20160402T140000
END:STANDARD
BEGIN:DAYLIGHT
TZOFFSETFROM:+1200
TZOFFSETTO:+1300
TZNAME:NZDT
DTSTART:20160924T140000
END:DAYLIGHT
END:VTIMEZONE
BEGIN:VEVENT
DTSTART;TZID=Pacific/Auckland:20150801T080000
DTEND;TZID=Pacific/Auckland:20150802T170000
DTSTAMP:20260425T222209
CREATED:20150112T202707Z
LAST-MODIFIED:20150112T202707Z
UID:195-1438416000-1438534800@asg.org.nz
SUMMARY:Caving Trip Waitomo
DESCRIPTION:The hut is booked\, we just need a trip!  Get in touch with your ideas!
URL:https://asg.org.nz/trips/caving-trip-waitomo-5/
LOCATION:Waitomo – Awatiro (club hut)\, 10km out of Waitomo\, New Zealand
CATEGORIES:Multi-day trip
END:VEVENT
BEGIN:VEVENT
DTSTART;TZID=Pacific/Auckland:20150822T080000
DTEND;TZID=Pacific/Auckland:20150823T170000
DTSTAMP:20260425T222209
CREATED:20150112T202810Z
LAST-MODIFIED:20150726T075956Z
UID:196-1440230400-1440349200@asg.org.nz
SUMMARY:NZSS NI SRT & Rigging Course
DESCRIPTION:Hi everyone\, we are holding a course in Waitomo which will cover the following areas: \n• Rigging for safety and ease of getting on / off pitches\n• Personal SRT Skills\n• Small group rope rescue skills\n• A mix of above ground practice and discussion and below ground practical exercises \nLed by Chris Whitehouse this course will be interactive and inclusive\, so bring your ideas to the table. It should be an interesting and fun weekend. \nWhen: Saturday 22nd & Sunday 23rd August 2015 \nWhere: We will be based at the ASG Club Hut “Awatiro” in Waitomo but be using a variety of location as suits. \nWho: From relative new-comers to SRT to the experienced you should get value from this course and learn new ideas and skills. Not suitable if you have not done any SRT at all. You must be a member of the NZSS. \nCost: TBC but low. You will be responsible for getting to the venue\, your accommodation (plenty of room at the ASG or HTG huts) and brekkies and lunches. We will provide tea and coffee and an evening meal on Saturday at Awatiro. I will confirm the cost of the meal later after you register. \nRegistration: Places are limited so please e-mail me with your name\, phone number and level of experience (so we can tweak the course to suit). If you have questions drop me an e-mail or call me
URL:https://asg.org.nz/trips/caving-trip-waitomo-6/
LOCATION:Waitomo – Awatiro (club hut)\, 10km out of Waitomo\, New Zealand
CATEGORIES:Multi-day trip
END:VEVENT
END:VCALENDAR