BEGIN:VCALENDAR
VERSION:2.0
PRODID:-//Auckland Speleo Group - ECPv6.15.13.1//NONSGML v1.0//EN
CALSCALE:GREGORIAN
METHOD:PUBLISH
X-ORIGINAL-URL:https://asg.org.nz
X-WR-CALDESC:Events for Auckland Speleo Group
REFRESH-INTERVAL;VALUE=DURATION:PT1H
X-Robots-Tag:noindex
X-PUBLISHED-TTL:PT1H
BEGIN:VTIMEZONE
TZID:Pacific/Auckland
BEGIN:STANDARD
TZOFFSETFROM:+1300
TZOFFSETTO:+1200
TZNAME:NZST
DTSTART:20140405T140000
END:STANDARD
BEGIN:DAYLIGHT
TZOFFSETFROM:+1200
TZOFFSETTO:+1300
TZNAME:NZDT
DTSTART:20140927T140000
END:DAYLIGHT
BEGIN:STANDARD
TZOFFSETFROM:+1300
TZOFFSETTO:+1200
TZNAME:NZST
DTSTART:20150404T140000
END:STANDARD
BEGIN:DAYLIGHT
TZOFFSETFROM:+1200
TZOFFSETTO:+1300
TZNAME:NZDT
DTSTART:20150926T140000
END:DAYLIGHT
BEGIN:STANDARD
TZOFFSETFROM:+1300
TZOFFSETTO:+1200
TZNAME:NZST
DTSTART:20160402T140000
END:STANDARD
BEGIN:DAYLIGHT
TZOFFSETFROM:+1200
TZOFFSETTO:+1300
TZNAME:NZDT
DTSTART:20160924T140000
END:DAYLIGHT
BEGIN:STANDARD
TZOFFSETFROM:+1300
TZOFFSETTO:+1200
TZNAME:NZST
DTSTART:20170401T140000
END:STANDARD
BEGIN:DAYLIGHT
TZOFFSETFROM:+1200
TZOFFSETTO:+1300
TZNAME:NZDT
DTSTART:20170923T140000
END:DAYLIGHT
END:VTIMEZONE
BEGIN:VEVENT
DTSTART;VALUE=DATE:20151226
DTEND;VALUE=DATE:20160105
DTSTAMP:20260425T133134
CREATED:20151013T083008Z
LAST-MODIFIED:20151013T083548Z
UID:265-1451088000-1451951999@asg.org.nz
SUMMARY:Xmas and New Years at the Hut!
DESCRIPTION:
URL:https://asg.org.nz/trips/xmas-and-new-years-at-the-hut/
LOCATION:Waitomo – Awatiro (club hut)\, 10km out of Waitomo\, New Zealand
CATEGORIES:Multi-day trip
END:VEVENT
BEGIN:VEVENT
DTSTART;TZID=Pacific/Auckland:20160122T183000
DTEND;TZID=Pacific/Auckland:20160123T170000
DTSTAMP:20260425T133134
CREATED:20151013T074518Z
LAST-MODIFIED:20160119T072916Z
UID:252-1453487400-1453568400@asg.org.nz
SUMMARY:Pararaha Stream camping/tramping
DESCRIPTION:Celebrate Murray’s birthday!  Hike into the Pararaha Stream camping ground\, and enjoy the Waitak’s…  Meet at Karekare @6:30pm!
URL:https://asg.org.nz/trips/pararaha-stream-campingtramping/
CATEGORIES:Multi-day trip
END:VEVENT
BEGIN:VEVENT
DTSTART;VALUE=DATE:20160130
DTEND;VALUE=DATE:20160202
DTSTAMP:20260425T133134
CREATED:20151013T074013Z
LAST-MODIFIED:20160121T222923Z
UID:251-1454112000-1454371199@asg.org.nz
SUMMARY:Ruakaka for anniversary weekend
DESCRIPTION:What more can we say\, this will rock 😉  Watch for updates from Dave… \nUpdate: \n Yes anniversary weekend is nearly upon us so time to get your caving gear out or tramping or cafe shoes on. \nThe caves on offer will be the usual suspects like Two Tone\, Master cave\, tourist cave\, and Elver Canyon etc.  If we are lucky enough there may be an Elver canyon-Basset rd-Master cave- Tourist cave thru trip?!!?? \nOther activities could include Tramping- Mt Mania – Reo Tahi – Pukenui Forest – Bryndurwyn Kauri dam walk and many others.  Abseiling at the Caves or organizing a fishing trip or Mountain bike Glenbervie forest or just relax and swim. \nAccommodation:- camping at the Ruakaka Beach Holiday Park (ring 094327590 to book a site in camp 2) \nor  camping at camp Bland (Grumpy owner\, crappy facilities\, but cheep!) everyone knows i’m cheep. \nFood is your responsibility but there is a bbq at both camps and we may put on a lamb roast on Saturday night. \nGive me a call and let me know your plans or your wishes if there is something else you would like to do. \nDave Bland   027 2044763 or land line 09 4330446
URL:https://asg.org.nz/trips/ruakaka-for-anniversary-weekend/
CATEGORIES:Multi-day trip
END:VEVENT
END:VCALENDAR