BEGIN:VCALENDAR
VERSION:2.0
PRODID:-//Auckland Speleo Group - ECPv6.15.13.1//NONSGML v1.0//EN
CALSCALE:GREGORIAN
METHOD:PUBLISH
X-ORIGINAL-URL:https://asg.org.nz
X-WR-CALDESC:Events for Auckland Speleo Group
REFRESH-INTERVAL;VALUE=DURATION:PT1H
X-Robots-Tag:noindex
X-PUBLISHED-TTL:PT1H
BEGIN:VTIMEZONE
TZID:Pacific/Auckland
BEGIN:STANDARD
TZOFFSETFROM:+1300
TZOFFSETTO:+1200
TZNAME:NZST
DTSTART:20150404T140000
END:STANDARD
BEGIN:DAYLIGHT
TZOFFSETFROM:+1200
TZOFFSETTO:+1300
TZNAME:NZDT
DTSTART:20150926T140000
END:DAYLIGHT
BEGIN:STANDARD
TZOFFSETFROM:+1300
TZOFFSETTO:+1200
TZNAME:NZST
DTSTART:20160402T140000
END:STANDARD
BEGIN:DAYLIGHT
TZOFFSETFROM:+1200
TZOFFSETTO:+1300
TZNAME:NZDT
DTSTART:20160924T140000
END:DAYLIGHT
BEGIN:STANDARD
TZOFFSETFROM:+1300
TZOFFSETTO:+1200
TZNAME:NZST
DTSTART:20170401T140000
END:STANDARD
BEGIN:DAYLIGHT
TZOFFSETFROM:+1200
TZOFFSETTO:+1300
TZNAME:NZDT
DTSTART:20170923T140000
END:DAYLIGHT
END:VTIMEZONE
BEGIN:VEVENT
DTSTART;VALUE=DATE:20160402
DTEND;VALUE=DATE:20160404
DTSTAMP:20260425T081730
CREATED:20160218T065405Z
LAST-MODIFIED:20160218T065405Z
UID:292-1459555200-1459727999@asg.org.nz
SUMMARY:Hut Working Bee
DESCRIPTION:A strategic move of weekend to secure Bob “Dave” The Builder for a solid day of love and attention our hut needs every once and a while\, so make sure you can help a little in what ever capacity you can offer… \nAnd there is always time to ferret a cave or two too… \nGive Jane a heads up as soon as you can!
URL:https://asg.org.nz/trips/hut-working-bee-2/
LOCATION:Waitomo – Awatiro (club hut)\, 10km out of Waitomo\, New Zealand
CATEGORIES:Multi-day trip
END:VEVENT
BEGIN:VEVENT
DTSTART;VALUE=DATE:20160416
DTEND;VALUE=DATE:20160418
DTSTAMP:20260425T081730
CREATED:20151013T080302Z
LAST-MODIFIED:20160413T085439Z
UID:258-1460764800-1460937599@asg.org.nz
SUMMARY:Mangawhitikau Cave + Lucky Strike Cave - CANCELLED!
DESCRIPTION:****** WEEKEND CANCELLED DUE TO LOW NUMBERS ****** \n****** Look out for when this trip is rescheduled later in the year ****** \nAmazing cave trip for the hard core\, Bill Dobbie is leading Mangawhitikau Cave.  This is an amazing trip though will require SRT\, a wetsuit\, and a degree of fitness as will be a 5 hour trip with a spot of swimming… \nLand owners permission is required so please let Bill know you are interested as soon as you can\, please phone 09 638 9210 \nAnd an amazing cave for the not so hard core\, Ben McEwan is leading Lucky Strike Cave. Pretty and fun\, not much need for SRT or a wetsuit\, swimming optional 😉 \nContact Ben if you are interested as soon as possible
URL:https://asg.org.nz/trips/waitomo-caving/
LOCATION:Waitomo – Awatiro (club hut)\, 10km out of Waitomo\, New Zealand
CATEGORIES:Multi-day trip
END:VEVENT
END:VCALENDAR