BEGIN:VCALENDAR
VERSION:2.0
PRODID:-//Auckland Speleo Group - ECPv6.15.13.1//NONSGML v1.0//EN
CALSCALE:GREGORIAN
METHOD:PUBLISH
X-ORIGINAL-URL:https://asg.org.nz
X-WR-CALDESC:Events for Auckland Speleo Group
REFRESH-INTERVAL;VALUE=DURATION:PT1H
X-Robots-Tag:noindex
X-PUBLISHED-TTL:PT1H
BEGIN:VTIMEZONE
TZID:Pacific/Auckland
BEGIN:STANDARD
TZOFFSETFROM:+1300
TZOFFSETTO:+1200
TZNAME:NZST
DTSTART:20160402T140000
END:STANDARD
BEGIN:DAYLIGHT
TZOFFSETFROM:+1200
TZOFFSETTO:+1300
TZNAME:NZDT
DTSTART:20160924T140000
END:DAYLIGHT
BEGIN:STANDARD
TZOFFSETFROM:+1300
TZOFFSETTO:+1200
TZNAME:NZST
DTSTART:20170401T140000
END:STANDARD
BEGIN:DAYLIGHT
TZOFFSETFROM:+1200
TZOFFSETTO:+1300
TZNAME:NZDT
DTSTART:20170923T140000
END:DAYLIGHT
BEGIN:STANDARD
TZOFFSETFROM:+1300
TZOFFSETTO:+1200
TZNAME:NZST
DTSTART:20180331T140000
END:STANDARD
BEGIN:DAYLIGHT
TZOFFSETFROM:+1200
TZOFFSETTO:+1300
TZNAME:NZDT
DTSTART:20180929T140000
END:DAYLIGHT
END:VTIMEZONE
BEGIN:VEVENT
DTSTART;TZID=Pacific/Auckland:20170812T080000
DTEND;TZID=Pacific/Auckland:20170813T170000
DTSTAMP:20260425T021825
CREATED:20170310T071255Z
LAST-MODIFIED:20170729T043454Z
UID:417-1502524800-1502643600@asg.org.nz
SUMMARY:Auckland Hole\, Hamilton Hole
DESCRIPTION:Saturday 12th August meet ASG hut 9am. We’ll pick up stragglers at HTG around 9:15am if that suites better.Numbers are limited to 8 persons due to the logistical nature of the cave. All need to be fully competant and independant with SRT\, have access to a decent wetsuite and bring a 3m length of webbing or cord.Weve got several options for the traverse\, the exact route to be decided closer to the day by most popular demand – We can all go Auck Hole to Hamilton Hole or we could do a crossover Auck Hole / Hamland Hole in two partys. Or some variation. Yes three entrance options.The entrance pitches are large (AH 90m HH 80m) and there are pitches and squeezes in between. The Mangapu stream passage we’ll traverse using inner tubes which will be provided. A wet suite is mandatory at this time of year. (HTG has a bunch of ex BWR wetsuites in the storage shed you are welcome to try for size)Any questions or to subscribe for this epic trip feel free to contact Mike by email or txt.
URL:https://asg.org.nz/trips/auckland-hole-hamilton-hole/
LOCATION:Waitomo – Awatiro (club hut)\, 10km out of Waitomo\, New Zealand
CATEGORIES:Multi-day trip
ORGANIZER;CN="Mike Allen":MAILTO:mikeallen87nz@gmail.com
END:VEVENT
END:VCALENDAR