BEGIN:VCALENDAR
VERSION:2.0
PRODID:-//Auckland Speleo Group - ECPv6.15.13.1//NONSGML v1.0//EN
CALSCALE:GREGORIAN
METHOD:PUBLISH
X-ORIGINAL-URL:https://asg.org.nz
X-WR-CALDESC:Events for Auckland Speleo Group
REFRESH-INTERVAL;VALUE=DURATION:PT1H
X-Robots-Tag:noindex
X-PUBLISHED-TTL:PT1H
BEGIN:VTIMEZONE
TZID:Pacific/Auckland
BEGIN:STANDARD
TZOFFSETFROM:+1300
TZOFFSETTO:+1200
TZNAME:NZST
DTSTART:20170401T140000
END:STANDARD
BEGIN:DAYLIGHT
TZOFFSETFROM:+1200
TZOFFSETTO:+1300
TZNAME:NZDT
DTSTART:20170923T140000
END:DAYLIGHT
BEGIN:STANDARD
TZOFFSETFROM:+1300
TZOFFSETTO:+1200
TZNAME:NZST
DTSTART:20180331T140000
END:STANDARD
BEGIN:DAYLIGHT
TZOFFSETFROM:+1200
TZOFFSETTO:+1300
TZNAME:NZDT
DTSTART:20180929T140000
END:DAYLIGHT
BEGIN:STANDARD
TZOFFSETFROM:+1300
TZOFFSETTO:+1200
TZNAME:NZST
DTSTART:20190406T140000
END:STANDARD
BEGIN:DAYLIGHT
TZOFFSETFROM:+1200
TZOFFSETTO:+1300
TZNAME:NZDT
DTSTART:20190928T140000
END:DAYLIGHT
END:VTIMEZONE
BEGIN:VEVENT
DTSTART;VALUE=DATE:20180331
DTEND;VALUE=DATE:20180404
DTSTAMP:20260425T040627
CREATED:20180227T054025Z
LAST-MODIFIED:20180227T054118Z
UID:495-1522454400-1522799999@asg.org.nz
SUMMARY:Easter Weekend - Waitomo
DESCRIPTION:Anything goes – Caving\, Canyoning\, digging\, tramping\, MTB\, fishing
URL:https://asg.org.nz/trips/easter-weekend-waitomo/
LOCATION:Waitomo – Awatiro (club hut)\, 10km out of Waitomo\, New Zealand
CATEGORIES:Multi-day trip
END:VEVENT
BEGIN:VEVENT
DTSTART;TZID=Pacific/Auckland:20180331T080000
DTEND;TZID=Pacific/Auckland:20180408T170000
DTSTAMP:20260425T040627
CREATED:20180227T054614Z
LAST-MODIFIED:20180227T054614Z
UID:496-1522483200-1523206800@asg.org.nz
SUMMARY:Road Trip - Nelson to Fiordland
DESCRIPTION:Join Thelma and Louise on their crazy journey…  well\, Karl and co that is…
URL:https://asg.org.nz/trips/road-trip-nelson-to-fiordland/
LOCATION:South Island\, New Zealand
CATEGORIES:Multi-day trip
END:VEVENT
BEGIN:VEVENT
DTSTART;VALUE=DATE:20180407
DTEND;VALUE=DATE:20180409
DTSTAMP:20260425T040627
CREATED:20180227T054934Z
LAST-MODIFIED:20180227T055002Z
UID:498-1523059200-1523231999@asg.org.nz
SUMMARY:Photo Session
DESCRIPTION:Join Kevin\, be a model or budding photographer – explore cameras\, caves and see them all in a new light – literally…
URL:https://asg.org.nz/trips/photo-session/
LOCATION:Waitomo – Awatiro (club hut)\, 10km out of Waitomo\, New Zealand
CATEGORIES:Multi-day trip
END:VEVENT
BEGIN:VEVENT
DTSTART;VALUE=DATE:20180414
DTEND;VALUE=DATE:20180416
DTSTAMP:20260425T040627
CREATED:20171129T062311Z
LAST-MODIFIED:20180227T055139Z
UID:477-1523664000-1523836799@asg.org.nz
SUMMARY:ASG Hut Working Bee
DESCRIPTION:Such an amazing asset!  But it needs your help\, pitch in for a little work to keep it ship shape and a fun place to be.  You never know\, there may even be caving!
URL:https://asg.org.nz/trips/asg-hut-working-bee/
LOCATION:Waitomo – Awatiro (club hut)\, 10km out of Waitomo\, New Zealand
CATEGORIES:Multi-day trip
END:VEVENT
BEGIN:VEVENT
DTSTART;VALUE=DATE:20180421
DTEND;VALUE=DATE:20180423
DTSTAMP:20260425T040627
CREATED:20180227T055504Z
LAST-MODIFIED:20180227T055902Z
UID:499-1524268800-1524441599@asg.org.nz
SUMMARY:NZSS SRT Training
DESCRIPTION:Join Chris Whitehouse and refresh\, up-skill and learn all there is to know about safe SRT skills.
URL:https://asg.org.nz/trips/nzss-srt-training/
LOCATION:Waitomo – Awatiro (club hut)\, 10km out of Waitomo\, New Zealand
CATEGORIES:Multi-day trip,Training
END:VEVENT
END:VCALENDAR