BEGIN:VCALENDAR
VERSION:2.0
PRODID:-//Auckland Speleo Group - ECPv6.15.13.1//NONSGML v1.0//EN
CALSCALE:GREGORIAN
METHOD:PUBLISH
X-ORIGINAL-URL:https://asg.org.nz
X-WR-CALDESC:Events for Auckland Speleo Group
REFRESH-INTERVAL;VALUE=DURATION:PT1H
X-Robots-Tag:noindex
X-PUBLISHED-TTL:PT1H
BEGIN:VTIMEZONE
TZID:Pacific/Auckland
BEGIN:STANDARD
TZOFFSETFROM:+1300
TZOFFSETTO:+1200
TZNAME:NZST
DTSTART:20180331T140000
END:STANDARD
BEGIN:DAYLIGHT
TZOFFSETFROM:+1200
TZOFFSETTO:+1300
TZNAME:NZDT
DTSTART:20180929T140000
END:DAYLIGHT
BEGIN:STANDARD
TZOFFSETFROM:+1300
TZOFFSETTO:+1200
TZNAME:NZST
DTSTART:20190406T140000
END:STANDARD
BEGIN:DAYLIGHT
TZOFFSETFROM:+1200
TZOFFSETTO:+1300
TZNAME:NZDT
DTSTART:20190928T140000
END:DAYLIGHT
BEGIN:STANDARD
TZOFFSETFROM:+1300
TZOFFSETTO:+1200
TZNAME:NZST
DTSTART:20200404T140000
END:STANDARD
BEGIN:DAYLIGHT
TZOFFSETFROM:+1200
TZOFFSETTO:+1300
TZNAME:NZDT
DTSTART:20200926T140000
END:DAYLIGHT
END:VTIMEZONE
BEGIN:VEVENT
DTSTART;VALUE=DATE:20190302
DTEND;VALUE=DATE:20190311
DTSTAMP:20260425T023044
CREATED:20180628T083907Z
LAST-MODIFIED:20180628T083907Z
UID:552-1551484800-1552262399@asg.org.nz
SUMMARY:ASG Nelson Trip
DESCRIPTION:Nelson\, home of marble alpine caves\, the heart of exploration and epic scenery… ohh don’t forget fabulous cafes and craft brews!
URL:https://asg.org.nz/trips/asg-nelson-trip/
LOCATION:NSG Club Hut\, Takaka Hill Road\, Golden Bay\, New Zealand
CATEGORIES:Multi-day trip
END:VEVENT
BEGIN:VEVENT
DTSTART;VALUE=DATE:20190309
DTEND;VALUE=DATE:20190311
DTSTAMP:20260425T023044
CREATED:20190118T060355Z
LAST-MODIFIED:20190118T063047Z
UID:606-1552089600-1552262399@asg.org.nz
SUMMARY:International Womens Day
DESCRIPTION:A weekend dedicated to the women of NZSS \nNB: date may change
URL:https://asg.org.nz/trips/international-womens-day/
LOCATION:Waitomo – Awatiro (club hut)\, 10km out of Waitomo\, New Zealand
CATEGORIES:Multi-day trip
ORGANIZER;CN="Unnamed Organizer":MAILTO:info@intotheunderworld.co.nz
END:VEVENT
BEGIN:VEVENT
DTSTART;VALUE=DATE:20190323
DTEND;VALUE=DATE:20190325
DTSTAMP:20260425T023044
CREATED:20190118T061501Z
LAST-MODIFIED:20190118T061501Z
UID:608-1553299200-1553471999@asg.org.nz
SUMMARY:Fred Cave
DESCRIPTION:A Waitomo classic\, sporty and fun for the more advanced cavers in SRT.
URL:https://asg.org.nz/trips/fred-cave/
LOCATION:Waitomo – Awatiro (club hut)\, 10km out of Waitomo\, New Zealand
CATEGORIES:Multi-day trip
END:VEVENT
END:VCALENDAR