BEGIN:VCALENDAR
VERSION:2.0
PRODID:-//Auckland Speleo Group - ECPv6.15.13.1//NONSGML v1.0//EN
CALSCALE:GREGORIAN
METHOD:PUBLISH
X-WR-CALNAME:Auckland Speleo Group
X-ORIGINAL-URL:https://asg.org.nz
X-WR-CALDESC:Events for Auckland Speleo Group
REFRESH-INTERVAL;VALUE=DURATION:PT1H
X-Robots-Tag:noindex
X-PUBLISHED-TTL:PT1H
BEGIN:VTIMEZONE
TZID:Pacific/Auckland
BEGIN:STANDARD
TZOFFSETFROM:+1300
TZOFFSETTO:+1200
TZNAME:NZST
DTSTART:20180331T140000
END:STANDARD
BEGIN:DAYLIGHT
TZOFFSETFROM:+1200
TZOFFSETTO:+1300
TZNAME:NZDT
DTSTART:20180929T140000
END:DAYLIGHT
BEGIN:STANDARD
TZOFFSETFROM:+1300
TZOFFSETTO:+1200
TZNAME:NZST
DTSTART:20190406T140000
END:STANDARD
BEGIN:DAYLIGHT
TZOFFSETFROM:+1200
TZOFFSETTO:+1300
TZNAME:NZDT
DTSTART:20190928T140000
END:DAYLIGHT
BEGIN:STANDARD
TZOFFSETFROM:+1300
TZOFFSETTO:+1200
TZNAME:NZST
DTSTART:20200404T140000
END:STANDARD
BEGIN:DAYLIGHT
TZOFFSETFROM:+1200
TZOFFSETTO:+1300
TZNAME:NZDT
DTSTART:20200926T140000
END:DAYLIGHT
END:VTIMEZONE
BEGIN:VEVENT
DTSTART;VALUE=DATE:20190713
DTEND;VALUE=DATE:20190715
DTSTAMP:20260425T022232
CREATED:20190622T052700Z
LAST-MODIFIED:20190622T053908Z
UID:643-1562976000-1563148799@asg.org.nz
SUMMARY:ASG Waitomo Weekend
DESCRIPTION:Everyone – Come along to club night\, discuss some cave options!
URL:https://asg.org.nz/trips/asg-waitomo-weekend/
LOCATION:Waitomo – Awatiro (club hut)\, 10km out of Waitomo\, New Zealand
CATEGORIES:Multi-day trip
ORGANIZER;CN="TRIPS":MAILTO:trips@asg.org.nz
END:VEVENT
BEGIN:VEVENT
DTSTART;VALUE=DATE:20190720
DTEND;VALUE=DATE:20190722
DTSTAMP:20260425T022232
CREATED:20190622T053306Z
LAST-MODIFIED:20190622T053306Z
UID:645-1563580800-1563753599@asg.org.nz
SUMMARY:Millars (HTG/ASG) All skill Levels - Mid Winter Xmas Christmas
DESCRIPTION:Millars is a fun explore for all levels of experience\, to boot you can mix with HTG members – bonus even – a mid winter xmas dinner!  how fab is this!  Sign up now and don’t miss out 😀
URL:https://asg.org.nz/trips/millars-htg-asg-all-skill-levels-mid-winter-xmas-christmas/
LOCATION:Hamilton Tomo Group Hut\, 155 Caves Te Anga Road\, Waitomo\, New Zealand
CATEGORIES:Multi-day trip
END:VEVENT
END:VCALENDAR