BEGIN:VCALENDAR
VERSION:2.0
PRODID:-//Auckland Speleo Group - ECPv6.15.13.1//NONSGML v1.0//EN
CALSCALE:GREGORIAN
METHOD:PUBLISH
X-ORIGINAL-URL:https://asg.org.nz
X-WR-CALDESC:Events for Auckland Speleo Group
REFRESH-INTERVAL;VALUE=DURATION:PT1H
X-Robots-Tag:noindex
X-PUBLISHED-TTL:PT1H
BEGIN:VTIMEZONE
TZID:Pacific/Auckland
BEGIN:STANDARD
TZOFFSETFROM:+1300
TZOFFSETTO:+1200
TZNAME:NZST
DTSTART:20180331T140000
END:STANDARD
BEGIN:DAYLIGHT
TZOFFSETFROM:+1200
TZOFFSETTO:+1300
TZNAME:NZDT
DTSTART:20180929T140000
END:DAYLIGHT
BEGIN:STANDARD
TZOFFSETFROM:+1300
TZOFFSETTO:+1200
TZNAME:NZST
DTSTART:20190406T140000
END:STANDARD
BEGIN:DAYLIGHT
TZOFFSETFROM:+1200
TZOFFSETTO:+1300
TZNAME:NZDT
DTSTART:20190928T140000
END:DAYLIGHT
BEGIN:STANDARD
TZOFFSETFROM:+1300
TZOFFSETTO:+1200
TZNAME:NZST
DTSTART:20200404T140000
END:STANDARD
BEGIN:DAYLIGHT
TZOFFSETFROM:+1200
TZOFFSETTO:+1300
TZNAME:NZDT
DTSTART:20200926T140000
END:DAYLIGHT
END:VTIMEZONE
BEGIN:VEVENT
DTSTART;VALUE=DATE:20191109
DTEND;VALUE=DATE:20191111
DTSTAMP:20260425T090838
CREATED:20190622T061724Z
LAST-MODIFIED:20190622T061724Z
UID:683-1573257600-1573430399@asg.org.nz
SUMMARY:ASG Waitomo Weekend
DESCRIPTION:Everyone – Come along to club night\, discuss some cave options
URL:https://asg.org.nz/trips/asg-waitomo-weekend-4/
LOCATION:Waitomo – Awatiro (club hut)\, 10km out of Waitomo\, New Zealand
CATEGORIES:Multi-day trip
ORGANIZER;CN="TRIPS":MAILTO:trips@asg.org.nz
END:VEVENT
BEGIN:VEVENT
DTSTART;VALUE=DATE:20191130
DTEND;VALUE=DATE:20191202
DTSTAMP:20260425T090838
CREATED:20191116T072013Z
LAST-MODIFIED:20191116T072013Z
UID:698-1575072000-1575244799@asg.org.nz
SUMMARY:Mangawhitikau cave
DESCRIPTION:Bill Dobbie is running a Mangawhitikau trip weekend of 30Nov -1Dec in Waitomo.\n\nMangawhitikau is a very wet cave so wetsuits are required. It’s also a 34m pitch in so SRT skills are needed too\, there are lots of pools and waterfalls to climb.\n\n For those who are keen that would like to brush up on your SRT skills prior let me know and we can arrange a training session for you one night in the week.\n\nNumbers for this trip are limited due to the nature of the cave so please RSVP with Bill on 096389210.\n\nSunday will likely be Murchies or something similar thats non SRT any suggestions are welcome.\n\nAny one keen to car share let me know. For gear hire speak to Pete Smith.\n\nAny other questions get in touch.\n\nThanks\n\nAmy\n0274054515
URL:https://asg.org.nz/trips/mangawhitikau-cave-3/
LOCATION:Waitomo – Awatiro (club hut)\, 10km out of Waitomo\, New Zealand
CATEGORIES:Multi-day trip
END:VEVENT
END:VCALENDAR