BEGIN:VCALENDAR
VERSION:2.0
PRODID:-//Auckland Speleo Group - ECPv6.15.13.1//NONSGML v1.0//EN
CALSCALE:GREGORIAN
METHOD:PUBLISH
X-WR-CALNAME:Auckland Speleo Group
X-ORIGINAL-URL:https://asg.org.nz
X-WR-CALDESC:Events for Auckland Speleo Group
REFRESH-INTERVAL;VALUE=DURATION:PT1H
X-Robots-Tag:noindex
X-PUBLISHED-TTL:PT1H
BEGIN:VTIMEZONE
TZID:Pacific/Auckland
BEGIN:STANDARD
TZOFFSETFROM:+1300
TZOFFSETTO:+1200
TZNAME:NZST
DTSTART:20150404T140000
END:STANDARD
BEGIN:DAYLIGHT
TZOFFSETFROM:+1200
TZOFFSETTO:+1300
TZNAME:NZDT
DTSTART:20150926T140000
END:DAYLIGHT
BEGIN:STANDARD
TZOFFSETFROM:+1300
TZOFFSETTO:+1200
TZNAME:NZST
DTSTART:20160402T140000
END:STANDARD
BEGIN:DAYLIGHT
TZOFFSETFROM:+1200
TZOFFSETTO:+1300
TZNAME:NZDT
DTSTART:20160924T140000
END:DAYLIGHT
BEGIN:STANDARD
TZOFFSETFROM:+1300
TZOFFSETTO:+1200
TZNAME:NZST
DTSTART:20170401T140000
END:STANDARD
BEGIN:DAYLIGHT
TZOFFSETFROM:+1200
TZOFFSETTO:+1300
TZNAME:NZDT
DTSTART:20170923T140000
END:DAYLIGHT
END:VTIMEZONE
BEGIN:VEVENT
DTSTART;TZID=Pacific/Auckland:20161013T183000
DTEND;TZID=Pacific/Auckland:20161013T210000
DTSTAMP:20260425T021336
CREATED:20161001T225359Z
LAST-MODIFIED:20161002T051524Z
UID:352-1476383400-1476392400@asg.org.nz
SUMMARY:Basic rigging and SRT skills evening
DESCRIPTION:Contact Shanan for details. \nBeginners and Rope Gurus all welcome. Emphasis in basic rigging\, knots\, building anchors etc. Bring SRT Kit\, rope etc. Meet at the car park on Clive Road across from the Hockey Field.
URL:https://asg.org.nz/trips/basic-rigging-and-srt-skills-evening/
LOCATION:Mount Eden\, 250 Mount Eden Road\, Auckland\, New Zealand
CATEGORIES:Training
END:VEVENT
END:VCALENDAR