BEGIN:VCALENDAR
VERSION:2.0
PRODID:-//Auckland Speleo Group - ECPv6.15.13.1//NONSGML v1.0//EN
CALSCALE:GREGORIAN
METHOD:PUBLISH
X-ORIGINAL-URL:https://asg.org.nz
X-WR-CALDESC:Events for Auckland Speleo Group
REFRESH-INTERVAL;VALUE=DURATION:PT1H
X-Robots-Tag:noindex
X-PUBLISHED-TTL:PT1H
BEGIN:VTIMEZONE
TZID:Pacific/Auckland
BEGIN:STANDARD
TZOFFSETFROM:+1300
TZOFFSETTO:+1200
TZNAME:NZST
DTSTART:20170401T140000
END:STANDARD
BEGIN:DAYLIGHT
TZOFFSETFROM:+1200
TZOFFSETTO:+1300
TZNAME:NZDT
DTSTART:20170923T140000
END:DAYLIGHT
BEGIN:STANDARD
TZOFFSETFROM:+1300
TZOFFSETTO:+1200
TZNAME:NZST
DTSTART:20180331T140000
END:STANDARD
BEGIN:DAYLIGHT
TZOFFSETFROM:+1200
TZOFFSETTO:+1300
TZNAME:NZDT
DTSTART:20180929T140000
END:DAYLIGHT
BEGIN:STANDARD
TZOFFSETFROM:+1300
TZOFFSETTO:+1200
TZNAME:NZST
DTSTART:20190406T140000
END:STANDARD
BEGIN:DAYLIGHT
TZOFFSETFROM:+1200
TZOFFSETTO:+1300
TZNAME:NZDT
DTSTART:20190928T140000
END:DAYLIGHT
END:VTIMEZONE
BEGIN:VEVENT
DTSTART;VALUE=DATE:20180421
DTEND;VALUE=DATE:20180423
DTSTAMP:20260425T023552
CREATED:20180227T055504Z
LAST-MODIFIED:20180227T055902Z
UID:499-1524268800-1524441599@asg.org.nz
SUMMARY:NZSS SRT Training
DESCRIPTION:Join Chris Whitehouse and refresh\, up-skill and learn all there is to know about safe SRT skills.
URL:https://asg.org.nz/trips/nzss-srt-training/
LOCATION:Waitomo – Awatiro (club hut)\, 10km out of Waitomo\, New Zealand
CATEGORIES:Multi-day trip,Training
END:VEVENT
END:VCALENDAR