BEGIN:VCALENDAR
VERSION:2.0
PRODID:-//Auckland Speleo Group - ECPv4.6.21//NONSGML v1.0//EN
CALSCALE:GREGORIAN
METHOD:PUBLISH
X-WR-CALNAME:Auckland Speleo Group
X-ORIGINAL-URL:https://asg.org.nz
X-WR-CALDESC:Events for Auckland Speleo Group
BEGIN:VEVENT
DTSTART;TZID=Pacific/Auckland:20170822T173000
DTEND;TZID=Pacific/Auckland:20170822T210000
DTSTAMP:20181224T095645
CREATED:20170822T072059Z
LAST-MODIFIED:20170822T072059Z
UID:453-1503423000-1503435600@asg.org.nz
SUMMARY:Caving for Beginners Training
DESCRIPTION:Contact Shanan for details \n
URL:https://asg.org.nz/trips/caving-for-beginners-training/
LOCATION:Tephra Blvd\, Stonefields\, Auckland\, 1072\, New Zealand
CATEGORIES:Training
END:VEVENT
END:VCALENDAR