BEGIN:VCALENDAR
VERSION:2.0
PRODID:-//Auckland Speleo Group - ECPv6.15.13.1//NONSGML v1.0//EN
CALSCALE:GREGORIAN
METHOD:PUBLISH
X-WR-CALNAME:Auckland Speleo Group
X-ORIGINAL-URL:https://asg.org.nz
X-WR-CALDESC:Events for Auckland Speleo Group
REFRESH-INTERVAL;VALUE=DURATION:PT1H
X-Robots-Tag:noindex
X-PUBLISHED-TTL:PT1H
BEGIN:VTIMEZONE
TZID:Pacific/Auckland
BEGIN:STANDARD
TZOFFSETFROM:+1300
TZOFFSETTO:+1200
TZNAME:NZST
DTSTART:20140405T140000
END:STANDARD
BEGIN:DAYLIGHT
TZOFFSETFROM:+1200
TZOFFSETTO:+1300
TZNAME:NZDT
DTSTART:20140927T140000
END:DAYLIGHT
BEGIN:STANDARD
TZOFFSETFROM:+1300
TZOFFSETTO:+1200
TZNAME:NZST
DTSTART:20150404T140000
END:STANDARD
BEGIN:DAYLIGHT
TZOFFSETFROM:+1200
TZOFFSETTO:+1300
TZNAME:NZDT
DTSTART:20150926T140000
END:DAYLIGHT
BEGIN:STANDARD
TZOFFSETFROM:+1300
TZOFFSETTO:+1200
TZNAME:NZST
DTSTART:20160402T140000
END:STANDARD
BEGIN:DAYLIGHT
TZOFFSETFROM:+1200
TZOFFSETTO:+1300
TZNAME:NZDT
DTSTART:20160924T140000
END:DAYLIGHT
END:VTIMEZONE
BEGIN:VEVENT
DTSTART;TZID=Pacific/Auckland:20150529T180000
DTEND;TZID=Pacific/Auckland:20150601T180000
DTSTAMP:20260426T000024
CREATED:20150112T200527Z
LAST-MODIFIED:20150511T074208Z
UID:186-1432922400-1433181600@asg.org.nz
SUMMARY:Queens Birthday 2015 - Mahoenui
DESCRIPTION:A long weekend out of Auckland! Shearer’s quarters booked for the Queens birthday weekend at Mahoenui that sleeps up to 11.  Contact Jane to book your bed. \nWe need a trip leader!  No experience required\, just someone that’s keen to go!
URL:https://asg.org.nz/trips/queens-birthday-2015/
LOCATION:Mahoenui\, Waikato\, Mahoenui\, Waikato\, New Zealand
CATEGORIES:Multi-day trip
END:VEVENT
BEGIN:VEVENT
DTSTART;TZID=Pacific/Auckland:20150620T080000
DTEND;TZID=Pacific/Auckland:20150621T170000
DTSTAMP:20260426T000024
CREATED:20150112T202510Z
LAST-MODIFIED:20150112T202510Z
UID:193-1434787200-1434906000@asg.org.nz
SUMMARY:Caving Trip Waitomo
DESCRIPTION:The hut is booked\, we just need a trip!  Get in touch with your ideas!
URL:https://asg.org.nz/trips/caving-trip-waitomo-3/
LOCATION:Waitomo – Awatiro (club hut)\, 10km out of Waitomo\, New Zealand
CATEGORIES:Multi-day trip
END:VEVENT
BEGIN:VEVENT
DTSTART;VALUE=DATE:20150627
DTEND;VALUE=DATE:20150629
DTSTAMP:20260426T000024
CREATED:20150604T084908Z
LAST-MODIFIED:20150604T084908Z
UID:216-1435363200-1435535999@asg.org.nz
SUMMARY:Caving Trip Waipu
DESCRIPTION:SRT trip – Elver canyon via Pregnancy Pot. Or for non SRT in via Bodleneck entrance. Both exit via Bodleneck.Pregnancy pot is a little tight but nothing to difficult\, people interested need to feel comfortable climbing\, and be independent with there SRT skills.This is a really great through trip\, with the bonus of dropping down to the second pitch within the cave to a beautiful stream way of clean washed limestone.( one of the best streams around! ) Also available – Basset road for those that need a challenge.Options of camping for the weekend or a day trip it is up to you. Why not visit the tourist cave or even abseil in via an upper entrance.Maybe see how far the tourist cave really goes……Weather dependent of course.
URL:https://asg.org.nz/trips/caving-trip-waipu/
LOCATION:Waipu Caves\, Waipu\, North Island\, New Zealand
END:VEVENT
END:VCALENDAR