BEGIN:VCALENDAR
VERSION:2.0
PRODID:-//Auckland Speleo Group - ECPv6.15.13.1//NONSGML v1.0//EN
CALSCALE:GREGORIAN
METHOD:PUBLISH
X-ORIGINAL-URL:https://asg.org.nz
X-WR-CALDESC:Events for Auckland Speleo Group
REFRESH-INTERVAL;VALUE=DURATION:PT1H
X-Robots-Tag:noindex
X-PUBLISHED-TTL:PT1H
BEGIN:VTIMEZONE
TZID:Pacific/Auckland
BEGIN:STANDARD
TZOFFSETFROM:+1300
TZOFFSETTO:+1200
TZNAME:NZST
DTSTART:20140405T140000
END:STANDARD
BEGIN:DAYLIGHT
TZOFFSETFROM:+1200
TZOFFSETTO:+1300
TZNAME:NZDT
DTSTART:20140927T140000
END:DAYLIGHT
BEGIN:STANDARD
TZOFFSETFROM:+1300
TZOFFSETTO:+1200
TZNAME:NZST
DTSTART:20150404T140000
END:STANDARD
BEGIN:DAYLIGHT
TZOFFSETFROM:+1200
TZOFFSETTO:+1300
TZNAME:NZDT
DTSTART:20150926T140000
END:DAYLIGHT
BEGIN:STANDARD
TZOFFSETFROM:+1300
TZOFFSETTO:+1200
TZNAME:NZST
DTSTART:20160402T140000
END:STANDARD
BEGIN:DAYLIGHT
TZOFFSETFROM:+1200
TZOFFSETTO:+1300
TZNAME:NZDT
DTSTART:20160924T140000
END:DAYLIGHT
END:VTIMEZONE
BEGIN:VEVENT
DTSTART;TZID=Pacific/Auckland:20151102T190000
DTEND;TZID=Pacific/Auckland:20151102T210000
DTSTAMP:20260425T150351
CREATED:20151013T082049Z
LAST-MODIFIED:20151013T082049Z
UID:262-1446490800-1446498000@asg.org.nz
SUMMARY:Club night
DESCRIPTION:Social evening together
URL:https://asg.org.nz/trips/club-night-3/
LOCATION:The Dominion Bar\, 234 Dominion Road\, Mt Eden\, Auckland\, 1024\, New Zealand
CATEGORIES:Club night
END:VEVENT
BEGIN:VEVENT
DTSTART;VALUE=DATE:20151107
DTEND;VALUE=DATE:20151109
DTSTAMP:20260425T150351
CREATED:20151013T073533Z
LAST-MODIFIED:20151013T073533Z
UID:249-1446854400-1447027199@asg.org.nz
SUMMARY:NZSS Annual Raft Race
DESCRIPTION:Back by popular demand the raft race will once again be run the first Saturday of November. Anyone that has attended this event will know how much fun it is and those that have not yet have the pleasure should check it out. \nLast year there was a great turn out with all ages from little people to grandparents. We are not too far from 50 years since the first so get into this long running event. A trophy is up for grabs (individual)\, but the trophy is only secondary to the social atmosphere of the raft race. \nThe start will be the standard bridge at the start of Speedies Road – with a 1:30pm starting time. If people arrive by 1pm then cars can be shuttled to the finish. \nOf course after the event we will retire to the HTG hut for a BBQ and appreciate the fireworks (Guy Fawkes weekend) – bring your own. It would be great to have a few ASG teams. It is a very social event. And of course people can go caving on Sunday.
URL:https://asg.org.nz/trips/nzss-annual-raft-race/
LOCATION:Hamilton Tomo Group Hut\, 155 Caves Te Anga Road\, Waitomo\, New Zealand
CATEGORIES:Day trip
ORGANIZER;CN="David Ellacott":MAILTO:davidellacott@gmail.com
END:VEVENT
BEGIN:VEVENT
DTSTART;TZID=Pacific/Auckland:20151117T183000
DTEND;TZID=Pacific/Auckland:20151117T210000
DTSTAMP:20260425T150351
CREATED:20151013T072351Z
LAST-MODIFIED:20151013T072410Z
UID:246-1447785000-1447794000@asg.org.nz
SUMMARY:SRT basic training evening
DESCRIPTION:Expand on your knowledge\, or learning from scratch.
URL:https://asg.org.nz/trips/srt-basic-training-evening/
CATEGORIES:Training
ORGANIZER;CN="Heidi Bader":MAILTO:training@asg.org.nz
END:VEVENT
BEGIN:VEVENT
DTSTART;TZID=Pacific/Auckland:20151128T080000
DTEND;TZID=Pacific/Auckland:20151129T170000
DTSTAMP:20260425T150351
CREATED:20150715T051255Z
LAST-MODIFIED:20151029T092038Z
UID:224-1448697600-1448816400@asg.org.nz
SUMMARY:ASG Xmas Bash & Mangawhitikau
DESCRIPTION:Main cave trip for the hard core\, Bill Dobbie is leading Mangawhitikau Cave.  This is an amazing trip though will require SRT\, a wetsuit\, and a degree of fitness as will be a 5 hour trip with a spot of swimming… \nLand owners permission is required so please let Bill know you are interested as soon as you can\, please phone 09 638 9210 \nAwesome caving\, amazing food and great company\, what better weekend could be had?
URL:https://asg.org.nz/trips/asg-xmas-bash-waitomo/
LOCATION:Waitomo – Awatiro (club hut)\, 10km out of Waitomo\, New Zealand
CATEGORIES:Multi-day trip
END:VEVENT
BEGIN:VEVENT
DTSTART;TZID=Pacific/Auckland:20151130T190000
DTEND;TZID=Pacific/Auckland:20151130T210000
DTSTAMP:20260425T150351
CREATED:20151013T082542Z
LAST-MODIFIED:20151013T082542Z
UID:263-1448910000-1448917200@asg.org.nz
SUMMARY:Club night with George Szentes
DESCRIPTION:Will provide us with a talk and slide show “Lava caves in Jeju Island\, South Korea”.
URL:https://asg.org.nz/trips/club-night-with-george-szentes/
LOCATION:The Dominion Bar\, 234 Dominion Road\, Mt Eden\, Auckland\, 1024\, New Zealand
CATEGORIES:Club night
END:VEVENT
END:VCALENDAR