BEGIN:VCALENDAR
VERSION:2.0
PRODID:-//Auckland Speleo Group - ECPv6.15.13.1//NONSGML v1.0//EN
CALSCALE:GREGORIAN
METHOD:PUBLISH
X-ORIGINAL-URL:https://asg.org.nz
X-WR-CALDESC:Events for Auckland Speleo Group
REFRESH-INTERVAL;VALUE=DURATION:PT1H
X-Robots-Tag:noindex
X-PUBLISHED-TTL:PT1H
BEGIN:VTIMEZONE
TZID:Pacific/Auckland
BEGIN:STANDARD
TZOFFSETFROM:+1300
TZOFFSETTO:+1200
TZNAME:NZST
DTSTART:20150404T140000
END:STANDARD
BEGIN:DAYLIGHT
TZOFFSETFROM:+1200
TZOFFSETTO:+1300
TZNAME:NZDT
DTSTART:20150926T140000
END:DAYLIGHT
BEGIN:STANDARD
TZOFFSETFROM:+1300
TZOFFSETTO:+1200
TZNAME:NZST
DTSTART:20160402T140000
END:STANDARD
BEGIN:DAYLIGHT
TZOFFSETFROM:+1200
TZOFFSETTO:+1300
TZNAME:NZDT
DTSTART:20160924T140000
END:DAYLIGHT
BEGIN:STANDARD
TZOFFSETFROM:+1300
TZOFFSETTO:+1200
TZNAME:NZST
DTSTART:20170401T140000
END:STANDARD
BEGIN:DAYLIGHT
TZOFFSETFROM:+1200
TZOFFSETTO:+1300
TZNAME:NZDT
DTSTART:20170923T140000
END:DAYLIGHT
END:VTIMEZONE
BEGIN:VEVENT
DTSTART;TZID=Pacific/Auckland:20160502T193000
DTEND;TZID=Pacific/Auckland:20160502T220000
DTSTAMP:20260425T043307
CREATED:20160413T094254Z
LAST-MODIFIED:20160413T094334Z
UID:301-1462217400-1462226400@asg.org.nz
SUMMARY:Club Night May 2016
DESCRIPTION:Our monthly meeting\, The Dominion Bar on 234 Dominion Road\, Mt Eden. \nFor any keen punters who would like to try the food on offer\, suggest catching up an hour before to try a meal\, mains will be half price.
URL:https://asg.org.nz/trips/club-night-may-2016/
LOCATION:The Dominion Bar\, 234 Dominion Road\, Mt Eden\, Auckland\, 1024\, New Zealand
CATEGORIES:Club night
END:VEVENT
BEGIN:VEVENT
DTSTART;VALUE=DATE:20160507
DTEND;VALUE=DATE:20160509
DTSTAMP:20260425T043307
CREATED:20151013T080435Z
LAST-MODIFIED:20160119T073946Z
UID:259-1462579200-1462751999@asg.org.nz
SUMMARY:Haggas Hole
DESCRIPTION:Tremendous trip…  Contact Sophie
URL:https://asg.org.nz/trips/waitomo-caving-2/
LOCATION:Waitomo – Awatiro (club hut)\, 10km out of Waitomo\, New Zealand
CATEGORIES:Multi-day trip
END:VEVENT
BEGIN:VEVENT
DTSTART;TZID=Pacific/Auckland:20160530T080000
DTEND;TZID=Pacific/Auckland:20160530T170000
DTSTAMP:20260425T043307
CREATED:20160413T094447Z
LAST-MODIFIED:20160413T094447Z
UID:302-1464595200-1464627600@asg.org.nz
SUMMARY:Club Night May 2016
DESCRIPTION:Our monthly meeting\, The Dominion Bar on 234 Dominion Road\, Mt Eden. \nFor any keen punters who would like to try the food on offer\, suggest catching up an hour before to try a meal\, mains will be half price.
URL:https://asg.org.nz/trips/club-night-may-2016-2/
LOCATION:The Dominion Bar\, 234 Dominion Road\, Mt Eden\, Auckland\, 1024\, New Zealand
CATEGORIES:Club night
END:VEVENT
END:VCALENDAR