BEGIN:VCALENDAR
VERSION:2.0
PRODID:-//Auckland Speleo Group - ECPv6.15.13.1//NONSGML v1.0//EN
CALSCALE:GREGORIAN
METHOD:PUBLISH
X-WR-CALNAME:Auckland Speleo Group
X-ORIGINAL-URL:https://asg.org.nz
X-WR-CALDESC:Events for Auckland Speleo Group
REFRESH-INTERVAL;VALUE=DURATION:PT1H
X-Robots-Tag:noindex
X-PUBLISHED-TTL:PT1H
BEGIN:VTIMEZONE
TZID:Pacific/Auckland
BEGIN:STANDARD
TZOFFSETFROM:+1300
TZOFFSETTO:+1200
TZNAME:NZST
DTSTART:20150404T140000
END:STANDARD
BEGIN:DAYLIGHT
TZOFFSETFROM:+1200
TZOFFSETTO:+1300
TZNAME:NZDT
DTSTART:20150926T140000
END:DAYLIGHT
BEGIN:STANDARD
TZOFFSETFROM:+1300
TZOFFSETTO:+1200
TZNAME:NZST
DTSTART:20160402T140000
END:STANDARD
BEGIN:DAYLIGHT
TZOFFSETFROM:+1200
TZOFFSETTO:+1300
TZNAME:NZDT
DTSTART:20160924T140000
END:DAYLIGHT
BEGIN:STANDARD
TZOFFSETFROM:+1300
TZOFFSETTO:+1200
TZNAME:NZST
DTSTART:20170401T140000
END:STANDARD
BEGIN:DAYLIGHT
TZOFFSETFROM:+1200
TZOFFSETTO:+1300
TZNAME:NZDT
DTSTART:20170923T140000
END:DAYLIGHT
END:VTIMEZONE
BEGIN:VEVENT
DTSTART;VALUE=DATE:20160604
DTEND;VALUE=DATE:20160607
DTSTAMP:20260425T030653
CREATED:20151013T080134Z
LAST-MODIFIED:20160413T093823Z
UID:257-1464998400-1465257599@asg.org.nz
SUMMARY:Puketiti Trip
DESCRIPTION:Puketiti is an amazing station with a maze of incredible caves\, this is a weekend not to be missed with great accommodation\, contact Murray for details! \nPossible Flower Cave trip to be run by Dave – strictly limited.
URL:https://asg.org.nz/trips/puketiti-trip/
LOCATION:Puketiti Station\, One hour south of Waitomo\, New Zealand
CATEGORIES:Multi-day trip
END:VEVENT
BEGIN:VEVENT
DTSTART;TZID=Pacific/Auckland:20160604T080000
DTEND;TZID=Pacific/Auckland:20160610T170000
DTSTAMP:20260425T030653
CREATED:20151002T082917Z
LAST-MODIFIED:20151002T082917Z
UID:241-1465027200-1465578000@asg.org.nz
SUMMARY:2016 advanced rope rescue training
DESCRIPTION:LandSAR is planning to run a 7 day advanced rope rescue course for all LandSAR rope rescue practitioners in the North Island in 2016.\nTentative date and venue: 4- 10 June (over Queens birthday weekend) at Wharepapa South.
URL:https://asg.org.nz/trips/2016-advanced-rope-rescue-training/
LOCATION:Wharepapa South\, New Zealand
CATEGORIES:Multi-day trip
END:VEVENT
BEGIN:VEVENT
DTSTART;VALUE=DATE:20160618
DTEND;VALUE=DATE:20160620
DTSTAMP:20260425T030653
CREATED:20160604T063945Z
LAST-MODIFIED:20160604T063945Z
UID:305-1466208000-1466380799@asg.org.nz
SUMMARY:Rangitoto Weekend
DESCRIPTION:Rangitoto is a Volcano\, and thus has some amazing lava tubs to explore and even find! \nCheck with Kevin if there is space\, as numbers limited. Though an easy day trip if desire.
URL:https://asg.org.nz/trips/rangitoto-weekend/
LOCATION:Rangitoto Island\, Auckland\, New Zealand
CATEGORIES:Multi-day trip
END:VEVENT
END:VCALENDAR