BEGIN:VCALENDAR
VERSION:2.0
PRODID:-//Auckland Speleo Group - ECPv6.15.13.1//NONSGML v1.0//EN
CALSCALE:GREGORIAN
METHOD:PUBLISH
X-ORIGINAL-URL:https://asg.org.nz
X-WR-CALDESC:Events for Auckland Speleo Group
REFRESH-INTERVAL;VALUE=DURATION:PT1H
X-Robots-Tag:noindex
X-PUBLISHED-TTL:PT1H
BEGIN:VTIMEZONE
TZID:Pacific/Auckland
BEGIN:STANDARD
TZOFFSETFROM:+1300
TZOFFSETTO:+1200
TZNAME:NZST
DTSTART:20150404T140000
END:STANDARD
BEGIN:DAYLIGHT
TZOFFSETFROM:+1200
TZOFFSETTO:+1300
TZNAME:NZDT
DTSTART:20150926T140000
END:DAYLIGHT
BEGIN:STANDARD
TZOFFSETFROM:+1300
TZOFFSETTO:+1200
TZNAME:NZST
DTSTART:20160402T140000
END:STANDARD
BEGIN:DAYLIGHT
TZOFFSETFROM:+1200
TZOFFSETTO:+1300
TZNAME:NZDT
DTSTART:20160924T140000
END:DAYLIGHT
BEGIN:STANDARD
TZOFFSETFROM:+1300
TZOFFSETTO:+1200
TZNAME:NZST
DTSTART:20170401T140000
END:STANDARD
BEGIN:DAYLIGHT
TZOFFSETFROM:+1200
TZOFFSETTO:+1300
TZNAME:NZDT
DTSTART:20170923T140000
END:DAYLIGHT
END:VTIMEZONE
BEGIN:VEVENT
DTSTART;VALUE=DATE:20160910
DTEND;VALUE=DATE:20160912
DTSTAMP:20260425T021827
CREATED:20160613T083837Z
LAST-MODIFIED:20160731T001021Z
UID:309-1473465600-1473638399@asg.org.nz
SUMMARY:Rigging and SRT training weekend at Waitomo
DESCRIPTION:After the success of the last training weekend\, our NZSS training officer\, Chris Whitehouse\, has once again volunteered to give up his spare time and organise a rigging weekend for club/NZSS members. Also attending will be Kip Mandeno\, who as you know is particularly good at brewing coffee and teaching cave rigging techniques. The general idea is to capitalise on the last rigging weekend. Beginners are encouraged to get involved\, as well as those with more experience\,  This is an informal opportunity that everyone will learn from. \n\nBring your personal rigging gear / club gear and any questions that you would like answered.\n\nBased at ASG hut on the 10th -11th of September.\n\nAny questions contact Chris on christhenomad@icloud.com or 021992457\n\nBring our own food for the weekend unless otherwise informed.\n 
URL:https://asg.org.nz/trips/rigging-and-srt-training-weekend-at-waitomo/
LOCATION:Waitomo – Awatiro (club hut)\, 10km out of Waitomo\, New Zealand
CATEGORIES:Multi-day trip,Training
END:VEVENT
BEGIN:VEVENT
DTSTART;TZID=Pacific/Auckland:20160920T173000
DTEND;TZID=Pacific/Auckland:20160920T200000
DTSTAMP:20260425T021827
CREATED:20160916T072449Z
LAST-MODIFIED:20160916T072449Z
UID:345-1474392600-1474401600@asg.org.nz
SUMMARY:Basic rigging evening
DESCRIPTION:Carrying on from the excellent Rigging course last weekend\, I think it would be a good idea to keep the ball rolling and run some basic rigging training. Absolute beginners or rigging gurus. All welcome.
URL:https://asg.org.nz/trips/basic-rigging-evening/
LOCATION:Tahaki Reserve\, 210 Mount Eden Road\, Auckland\, 1024\, New Zealand
CATEGORIES:Training
END:VEVENT
BEGIN:VEVENT
DTSTART;VALUE=DATE:20160924
DTEND;VALUE=DATE:20160926
DTSTAMP:20260425T021827
CREATED:20160916T071944Z
LAST-MODIFIED:20160916T071944Z
UID:344-1474675200-1474847999@asg.org.nz
SUMMARY:Lucky Strike and Rumbling Gut
DESCRIPTION:Amy’s plan is to do Lucky Strike Cave Saturday and Rumbling Gut Sunday. \nKevin has offered guidance as he knows the insides of these caves and can direct us around and anyone else who wishes to come along and be part of the adventure. These are awesome caves\, get in quick! Please let me know if you are interested.
URL:https://asg.org.nz/trips/lucky-strike-and-rumbling-gut/
LOCATION:Waitomo – Awatiro (club hut)\, 10km out of Waitomo\, New Zealand
CATEGORIES:Multi-day trip
END:VEVENT
BEGIN:VEVENT
DTSTART;TZID=Pacific/Auckland:20160926T183000
DTEND;TZID=Pacific/Auckland:20160926T220000
DTSTAMP:20260425T021827
CREATED:20160804T083950Z
LAST-MODIFIED:20160804T084028Z
UID:330-1474914600-1474927200@asg.org.nz
SUMMARY:Club night September 2016 - ASG AGM
DESCRIPTION:Notice of ASG AGM\nThe ASG AGM will be held at The Dominion Bar\, 234 Dominion Rd on Monday 26th September.\n\nDrinks and Dinner from 6:30pm\nThe AGM will start at 8:15pm in the upstairs bar.\n\nPlease contact Trevor (trevnallie@gmail or 09 479 1384)  if you are interested in coming for dinner so we can book.  Most people choose to come for dinner and the food at The Dominion is very good.\n\nWe need your support\, so please come along to enjoy the evening and vote for the new club officers.  We need a new President\, Secretary and Treasurer as all are stepping down this year.  This club only survives if it’s members support it\, so please contribute a little and put your hand up to help.
URL:https://asg.org.nz/trips/club-night-september-2016-asg-agm/
LOCATION:The Dominion Bar\, 234 Dominion Road\, Mt Eden\, Auckland\, 1024\, New Zealand
CATEGORIES:Club night
END:VEVENT
END:VCALENDAR