BEGIN:VCALENDAR
VERSION:2.0
PRODID:-//Auckland Speleo Group - ECPv6.15.13.1//NONSGML v1.0//EN
CALSCALE:GREGORIAN
METHOD:PUBLISH
X-WR-CALNAME:Auckland Speleo Group
X-ORIGINAL-URL:https://asg.org.nz
X-WR-CALDESC:Events for Auckland Speleo Group
REFRESH-INTERVAL;VALUE=DURATION:PT1H
X-Robots-Tag:noindex
X-PUBLISHED-TTL:PT1H
BEGIN:VTIMEZONE
TZID:Pacific/Auckland
BEGIN:STANDARD
TZOFFSETFROM:+1300
TZOFFSETTO:+1200
TZNAME:NZST
DTSTART:20150404T140000
END:STANDARD
BEGIN:DAYLIGHT
TZOFFSETFROM:+1200
TZOFFSETTO:+1300
TZNAME:NZDT
DTSTART:20150926T140000
END:DAYLIGHT
BEGIN:STANDARD
TZOFFSETFROM:+1300
TZOFFSETTO:+1200
TZNAME:NZST
DTSTART:20160402T140000
END:STANDARD
BEGIN:DAYLIGHT
TZOFFSETFROM:+1200
TZOFFSETTO:+1300
TZNAME:NZDT
DTSTART:20160924T140000
END:DAYLIGHT
BEGIN:STANDARD
TZOFFSETFROM:+1300
TZOFFSETTO:+1200
TZNAME:NZST
DTSTART:20170401T140000
END:STANDARD
BEGIN:DAYLIGHT
TZOFFSETFROM:+1200
TZOFFSETTO:+1300
TZNAME:NZDT
DTSTART:20170923T140000
END:DAYLIGHT
END:VTIMEZONE
BEGIN:VEVENT
DTSTART;VALUE=DATE:20161112
DTEND;VALUE=DATE:20161113
DTSTAMP:20260425T025437
CREATED:20161001T224641Z
LAST-MODIFIED:20161001T224641Z
UID:351-1478908800-1478995199@asg.org.nz
SUMMARY:Annual club Canyon trip
DESCRIPTION:Pete and Shanan are again running this awesome event\, this year Te Aroha. \nGet in touch as soon as possible if your interested\, as this tends to over subscribe… Its super popular! \nSRT skills and wetsuit required.
URL:https://asg.org.nz/trips/annual-club-canyon-trip-2/
CATEGORIES:Day trip
END:VEVENT
BEGIN:VEVENT
DTSTART;TZID=Pacific/Auckland:20161121T183000
DTEND;TZID=Pacific/Auckland:20161121T210000
DTSTAMP:20260425T025437
CREATED:20161031T180228Z
LAST-MODIFIED:20161031T180228Z
UID:356-1479753000-1479762000@asg.org.nz
SUMMARY:SRT training / practice
DESCRIPTION:Monte Cecilia park (just down hill from the main building) \nFor everyone\, from beginner to advanced.
URL:https://asg.org.nz/trips/srt-training-practice/
LOCATION:Monte Cecilia park\, Luck Cres\, Hillsborough\, Auckland\, New Zealand
CATEGORIES:Training
END:VEVENT
END:VCALENDAR