BEGIN:VCALENDAR
VERSION:2.0
PRODID:-//Auckland Speleo Group - ECPv6.15.13.1//NONSGML v1.0//EN
CALSCALE:GREGORIAN
METHOD:PUBLISH
X-WR-CALNAME:Auckland Speleo Group
X-ORIGINAL-URL:https://asg.org.nz
X-WR-CALDESC:Events for Auckland Speleo Group
REFRESH-INTERVAL;VALUE=DURATION:PT1H
X-Robots-Tag:noindex
X-PUBLISHED-TTL:PT1H
BEGIN:VTIMEZONE
TZID:Pacific/Auckland
BEGIN:STANDARD
TZOFFSETFROM:+1300
TZOFFSETTO:+1200
TZNAME:NZST
DTSTART:20160402T140000
END:STANDARD
BEGIN:DAYLIGHT
TZOFFSETFROM:+1200
TZOFFSETTO:+1300
TZNAME:NZDT
DTSTART:20160924T140000
END:DAYLIGHT
BEGIN:STANDARD
TZOFFSETFROM:+1300
TZOFFSETTO:+1200
TZNAME:NZST
DTSTART:20170401T140000
END:STANDARD
BEGIN:DAYLIGHT
TZOFFSETFROM:+1200
TZOFFSETTO:+1300
TZNAME:NZDT
DTSTART:20170923T140000
END:DAYLIGHT
BEGIN:STANDARD
TZOFFSETFROM:+1300
TZOFFSETTO:+1200
TZNAME:NZST
DTSTART:20180331T140000
END:STANDARD
BEGIN:DAYLIGHT
TZOFFSETFROM:+1200
TZOFFSETTO:+1300
TZNAME:NZDT
DTSTART:20180929T140000
END:DAYLIGHT
END:VTIMEZONE
BEGIN:VEVENT
DTSTART;TZID=Pacific/Auckland:20170202T173000
DTEND;TZID=Pacific/Auckland:20170202T210000
DTSTAMP:20260425T021311
CREATED:20170111T085630Z
LAST-MODIFIED:20170111T091603Z
UID:401-1486056600-1486069200@asg.org.nz
SUMMARY:Cave Rigging Training
DESCRIPTION:Great skill to develop or just keep up to good practice standard – with practice… \nCave rigging training – yes please! \nMeet at the pumphouse at the end of Barbarich Drive. Bring SRT kit\, Rope\, Rigging Gear. We can adjourn to the Flying Moa for refreshments afterwards.
URL:https://asg.org.nz/trips/cave-rigging-training/
LOCATION:Maungarei Springs\, Tephra Blvd\, Stonefields\, Auckland\, 1072\, New Zealand
CATEGORIES:Training
END:VEVENT
BEGIN:VEVENT
DTSTART;VALUE=DATE:20170211
DTEND;VALUE=DATE:20170213
DTSTAMP:20260425T021311
CREATED:20161110T065430Z
LAST-MODIFIED:20161110T065430Z
UID:364-1486771200-1486943999@asg.org.nz
SUMMARY:Waitomo Caving Weekend
DESCRIPTION:Weekend at Waitomo\, every cavers dream! \nWatch for details\, get in touch with Amy…
URL:https://asg.org.nz/trips/waitomo-caving-weekend/
LOCATION:Waitomo – Awatiro (club hut)\, 10km out of Waitomo\, New Zealand
CATEGORIES:Multi-day trip
END:VEVENT
BEGIN:VEVENT
DTSTART;TZID=Pacific/Auckland:20170213T173000
DTEND;TZID=Pacific/Auckland:20170213T210000
DTSTAMP:20260425T021311
CREATED:20170111T090215Z
LAST-MODIFIED:20170111T091648Z
UID:402-1487007000-1487019600@asg.org.nz
SUMMARY:SRT skills Training
DESCRIPTION:Personal SRT skills are essential in any vertical cave environment – learn what its all about\, or join and keep those skills sharp! \nMeet at the pumphouse at the end of Barbarich Drive. Bring SRT kit\, Rope\, Rigging Gear. We can adjourn to the Flying Moa for refreshments afterwards.
URL:https://asg.org.nz/trips/srt-skills-training/
LOCATION:Maungarei Springs\, Tephra Blvd\, Stonefields\, Auckland\, 1072\, New Zealand
CATEGORIES:Training
END:VEVENT
BEGIN:VEVENT
DTSTART;TZID=Pacific/Auckland:20170227T193000
DTEND;TZID=Pacific/Auckland:20170227T210000
DTSTAMP:20260425T021311
CREATED:20161209T233445Z
LAST-MODIFIED:20161209T233446Z
UID:379-1488223800-1488229200@asg.org.nz
SUMMARY:ASG Club Night Feburary 2017
DESCRIPTION:Our monthly meeting\, The Dominion Bar on 234 Dominion Road\, Mt Eden. \nFor any keen punters who would like to try the food on offer\, suggest catching up an hour before to try a meal\, mains will be half price.
URL:https://asg.org.nz/trips/asg-club-night-feburary-2017/
LOCATION:The Dominion Bar\, 234 Dominion Road\, Mt Eden\, Auckland\, 1024\, New Zealand
CATEGORIES:Club night
END:VEVENT
END:VCALENDAR