BEGIN:VCALENDAR
VERSION:2.0
PRODID:-//Auckland Speleo Group - ECPv6.15.13.1//NONSGML v1.0//EN
CALSCALE:GREGORIAN
METHOD:PUBLISH
X-ORIGINAL-URL:https://asg.org.nz
X-WR-CALDESC:Events for Auckland Speleo Group
REFRESH-INTERVAL;VALUE=DURATION:PT1H
X-Robots-Tag:noindex
X-PUBLISHED-TTL:PT1H
BEGIN:VTIMEZONE
TZID:Pacific/Auckland
BEGIN:STANDARD
TZOFFSETFROM:+1300
TZOFFSETTO:+1200
TZNAME:NZST
DTSTART:20160402T140000
END:STANDARD
BEGIN:DAYLIGHT
TZOFFSETFROM:+1200
TZOFFSETTO:+1300
TZNAME:NZDT
DTSTART:20160924T140000
END:DAYLIGHT
BEGIN:STANDARD
TZOFFSETFROM:+1300
TZOFFSETTO:+1200
TZNAME:NZST
DTSTART:20170401T140000
END:STANDARD
BEGIN:DAYLIGHT
TZOFFSETFROM:+1200
TZOFFSETTO:+1300
TZNAME:NZDT
DTSTART:20170923T140000
END:DAYLIGHT
BEGIN:STANDARD
TZOFFSETFROM:+1300
TZOFFSETTO:+1200
TZNAME:NZST
DTSTART:20180331T140000
END:STANDARD
BEGIN:DAYLIGHT
TZOFFSETFROM:+1200
TZOFFSETTO:+1300
TZNAME:NZDT
DTSTART:20180929T140000
END:DAYLIGHT
END:VTIMEZONE
BEGIN:VEVENT
DTSTART;VALUE=DATE:20170311
DTEND;VALUE=DATE:20170312
DTSTAMP:20260425T021600
CREATED:20161110T065913Z
LAST-MODIFIED:20170209T074404Z
UID:365-1489190400-1489276799@asg.org.nz
SUMMARY:Karamu Day Trip
DESCRIPTION:Just south west of Hamilton\, so close\, pleasant day trip…
URL:https://asg.org.nz/trips/rangitoto-is-exploring/
LOCATION:Karamu\, Waikato\, New Zealand
CATEGORIES:Day trip
END:VEVENT
BEGIN:VEVENT
DTSTART;TZID=Pacific/Auckland:20170322T183000
DTEND;TZID=Pacific/Auckland:20170322T210000
DTSTAMP:20260425T021600
CREATED:20170310T072803Z
LAST-MODIFIED:20170310T072803Z
UID:423-1490207400-1490216400@asg.org.nz
SUMMARY:Canyon Rigging
DESCRIPTION:Perfect some skill sets perfect for Auckland…
URL:https://asg.org.nz/trips/canyon-rigging/
LOCATION:Maungarei Springs\, Tephra Blvd\, Stonefields\, Auckland\, 1072\, New Zealand
CATEGORIES:Training
END:VEVENT
BEGIN:VEVENT
DTSTART;VALUE=DATE:20170325
DTEND;VALUE=DATE:20170403
DTSTAMP:20260425T021600
CREATED:20161101T082625Z
LAST-MODIFIED:20161101T082625Z
UID:361-1490400000-1491177599@asg.org.nz
SUMMARY:ASG exploration at Waitomo
DESCRIPTION:The plan is a week long ASG exploration at Waitomo \nPeople can come and go at the hut as they please.\nWe could explore the very caves that we generally just rush through over our fleeting visits. The possibilities are endless – where do you want to go again??\nWould anyone be interested in a loose plan to go where few dare to tread?\nPerhaps resurvey a cave or two…
URL:https://asg.org.nz/trips/asg-exploration-at-waitomo/
LOCATION:Waitomo – Awatiro (club hut)\, 10km out of Waitomo\, New Zealand
CATEGORIES:Multi-day trip
END:VEVENT
BEGIN:VEVENT
DTSTART;TZID=Pacific/Auckland:20170325T080000
DTEND;TZID=Pacific/Auckland:20170326T170000
DTSTAMP:20260425T021600
CREATED:20170217T063704Z
LAST-MODIFIED:20170310T070132Z
UID:410-1490428800-1490547600@asg.org.nz
SUMMARY:Mangawhitikau Cave
DESCRIPTION:Bill Dobbie is leading this sweet trip.  Is wet and wild\, so contact Bill if you are keen to have a ripper time.  Bill will also lead an easy Sunday cave for the motivated – most likely Whites…
URL:https://asg.org.nz/trips/mangawhitikau-cave/
LOCATION:Waitomo – Awatiro (club hut)\, 10km out of Waitomo\, New Zealand
CATEGORIES:Multi-day trip
END:VEVENT
BEGIN:VEVENT
DTSTART;TZID=Pacific/Auckland:20170327T193000
DTEND;TZID=Pacific/Auckland:20170327T210000
DTSTAMP:20260425T021600
CREATED:20161209T233555Z
LAST-MODIFIED:20161209T233555Z
UID:380-1490643000-1490648400@asg.org.nz
SUMMARY:ASG Club Night March 2017
DESCRIPTION:Our monthly meeting\, The Dominion Bar on 234 Dominion Road\, Mt Eden. \nFor any keen punters who would like to try the food on offer\, suggest catching up an hour before to try a meal\, mains will be half price.
URL:https://asg.org.nz/trips/asg-club-night-march-2017/
LOCATION:The Dominion Bar\, 234 Dominion Road\, Mt Eden\, Auckland\, 1024\, New Zealand
CATEGORIES:Club night
END:VEVENT
BEGIN:VEVENT
DTSTART;VALUE=DATE:20170329
DTEND;VALUE=DATE:20170330
DTSTAMP:20260425T021600
CREATED:20170111T091012Z
LAST-MODIFIED:20170111T091753Z
UID:404-1490745600-1490831999@asg.org.nz
SUMMARY:SRT Skills Training
DESCRIPTION:A days training on the Rock faces around Awatiro. This is during Pete Smiths Caving week based at the hut. Bring SRT Kit\, ropes and rigging gear. \n 
URL:https://asg.org.nz/trips/srt-skills-training-2/
LOCATION:Waitomo – Awatiro (club hut)\, 10km out of Waitomo\, New Zealand
CATEGORIES:Training
END:VEVENT
END:VCALENDAR