BEGIN:VCALENDAR
VERSION:2.0
PRODID:-//Auckland Speleo Group - ECPv6.15.13.1//NONSGML v1.0//EN
CALSCALE:GREGORIAN
METHOD:PUBLISH
X-ORIGINAL-URL:https://asg.org.nz
X-WR-CALDESC:Events for Auckland Speleo Group
REFRESH-INTERVAL;VALUE=DURATION:PT1H
X-Robots-Tag:noindex
X-PUBLISHED-TTL:PT1H
BEGIN:VTIMEZONE
TZID:Pacific/Auckland
BEGIN:STANDARD
TZOFFSETFROM:+1300
TZOFFSETTO:+1200
TZNAME:NZST
DTSTART:20160402T140000
END:STANDARD
BEGIN:DAYLIGHT
TZOFFSETFROM:+1200
TZOFFSETTO:+1300
TZNAME:NZDT
DTSTART:20160924T140000
END:DAYLIGHT
BEGIN:STANDARD
TZOFFSETFROM:+1300
TZOFFSETTO:+1200
TZNAME:NZST
DTSTART:20170401T140000
END:STANDARD
BEGIN:DAYLIGHT
TZOFFSETFROM:+1200
TZOFFSETTO:+1300
TZNAME:NZDT
DTSTART:20170923T140000
END:DAYLIGHT
BEGIN:STANDARD
TZOFFSETFROM:+1300
TZOFFSETTO:+1200
TZNAME:NZST
DTSTART:20180331T140000
END:STANDARD
BEGIN:DAYLIGHT
TZOFFSETFROM:+1200
TZOFFSETTO:+1300
TZNAME:NZDT
DTSTART:20180929T140000
END:DAYLIGHT
BEGIN:STANDARD
TZOFFSETFROM:+1300
TZOFFSETTO:+1200
TZNAME:NZST
DTSTART:20190406T140000
END:STANDARD
BEGIN:DAYLIGHT
TZOFFSETFROM:+1200
TZOFFSETTO:+1300
TZNAME:NZDT
DTSTART:20190928T140000
END:DAYLIGHT
END:VTIMEZONE
BEGIN:VEVENT
DTSTART;TZID=Pacific/Auckland:20171206T190000
DTEND;TZID=Pacific/Auckland:20171206T210000
DTSTAMP:20260425T090539
CREATED:20170822T073131Z
LAST-MODIFIED:20170822T073131Z
UID:459-1512586800-1512594000@asg.org.nz
SUMMARY:SRT Rescue Training
DESCRIPTION:SRT rescue practise and Michie phone familiarisation. Contact Murray for details.
URL:https://asg.org.nz/trips/srt-rescue-training/
LOCATION:Monte Cecilia park\, Luck Cres\, Hillsborough\, Auckland\, New Zealand
CATEGORIES:Training
END:VEVENT
BEGIN:VEVENT
DTSTART;VALUE=DATE:20171209
DTEND;VALUE=DATE:20171210
DTSTAMP:20260425T090539
CREATED:20170310T071416Z
LAST-MODIFIED:20171128T065509Z
UID:418-1512777600-1512863999@asg.org.nz
SUMMARY:Burr Cave
DESCRIPTION:Neat cave nearby the Hut.  Stunning waterfall pitches wet and dry\, great passage with a brilliant maze of passages and challenging squeezes to boot to finish. \nContact Pete for details
URL:https://asg.org.nz/trips/cut-throat-ernies-waterfall/
LOCATION:Waitomo – Awatiro (club hut)\, 10km out of Waitomo\, New Zealand
CATEGORIES:Multi-day trip
END:VEVENT
BEGIN:VEVENT
DTSTART;VALUE=DATE:20171209
DTEND;VALUE=DATE:20171211
DTSTAMP:20260425T090539
CREATED:20170310T071926Z
LAST-MODIFIED:20171129T064022Z
UID:421-1512777600-1512950399@asg.org.nz
SUMMARY:ASG Xmas Party
DESCRIPTION:Planned trips: Lembergs (Murray) Haggas Hole (Karl) – Saturday\, Mangapahoe (Sunday)
URL:https://asg.org.nz/trips/asg-xmas-party/
LOCATION:Waitomo – Awatiro (club hut)\, 10km out of Waitomo\, New Zealand
CATEGORIES:Multi-day trip
END:VEVENT
BEGIN:VEVENT
DTSTART;VALUE=DATE:20171209
DTEND;VALUE=DATE:20171225
DTSTAMP:20260425T090539
CREATED:20171128T070833Z
LAST-MODIFIED:20171128T070833Z
UID:474-1512777600-1514159999@asg.org.nz
SUMMARY:Into the Underworld Exhibition 2017
DESCRIPTION:Beneath the banality of Auckland’s sprawling suburbia\, there lies an ancient subterranean world. \nInto the Underworld is an art-science collaboration between digital artist Chirag Jindal and speleologist Peter Crossley\, and follows two years of advanced 3D scanning research into the lava caves under the suburbs of Mount Albert\, Three Kings\, Mount Eden\, Mangere and One Tree Hill. \nFor three weeks only in December\, the caves will be presented in an exhibition of immersive panoramic prints\, moving images and 3D-printed models\, revealing the sublime and uncanny narrative of the city’s volcanic underground. \nThe exhibition will also feature screenings of Meet Peter\, a 2017 fresh shorts documentary by filmmaker Gemma Duncan on Peter and his life documenting over 200 caves across the city. Through artful cinematography\, the film accounts the derelict state of these forgotten sites\, but frames them within the beauty of their fossilised lava flows. \nWhen: \nSaturday 9 December 2017\, 12.00pm – Sunday 24 December 2017\, 9.00pm \n  \nExhibition open from 12pm until late (until 9pm weekdays\, until midnight from 21-23 Dec) \nCost: Free \n 
URL:https://asg.org.nz/trips/into-the-underworld-exhibition-2017/
LOCATION:Silo 6\, Jellicoe Street\, Wynyard Quarter\, Auckland\, New Zealand
CATEGORIES:Day trip
ORGANIZER;CN="Unnamed Organizer":MAILTO:info@intotheunderworld.co.nz
END:VEVENT
BEGIN:VEVENT
DTSTART;TZID=Pacific/Auckland:20171228T080000
DTEND;TZID=Pacific/Auckland:20180103T170000
DTSTAMP:20260425T090539
CREATED:20170822T083141Z
LAST-MODIFIED:20170822T083141Z
UID:462-1514448000-1514998800@asg.org.nz
SUMMARY:ASG New Years Waitomo
DESCRIPTION:Watch this space – or make your mark…  The week is ours!
URL:https://asg.org.nz/trips/asg-new-years-waitomo/
LOCATION:Waitomo – Awatiro (club hut)\, 10km out of Waitomo\, New Zealand
CATEGORIES:Multi-day trip
END:VEVENT
END:VCALENDAR