BEGIN:VCALENDAR
VERSION:2.0
PRODID:-//Auckland Speleo Group - ECPv6.15.13.1//NONSGML v1.0//EN
CALSCALE:GREGORIAN
METHOD:PUBLISH
X-WR-CALNAME:Auckland Speleo Group
X-ORIGINAL-URL:https://asg.org.nz
X-WR-CALDESC:Events for Auckland Speleo Group
REFRESH-INTERVAL;VALUE=DURATION:PT1H
X-Robots-Tag:noindex
X-PUBLISHED-TTL:PT1H
BEGIN:VTIMEZONE
TZID:Pacific/Auckland
BEGIN:STANDARD
TZOFFSETFROM:+1300
TZOFFSETTO:+1200
TZNAME:NZST
DTSTART:20170401T140000
END:STANDARD
BEGIN:DAYLIGHT
TZOFFSETFROM:+1200
TZOFFSETTO:+1300
TZNAME:NZDT
DTSTART:20170923T140000
END:DAYLIGHT
BEGIN:STANDARD
TZOFFSETFROM:+1300
TZOFFSETTO:+1200
TZNAME:NZST
DTSTART:20180331T140000
END:STANDARD
BEGIN:DAYLIGHT
TZOFFSETFROM:+1200
TZOFFSETTO:+1300
TZNAME:NZDT
DTSTART:20180929T140000
END:DAYLIGHT
BEGIN:STANDARD
TZOFFSETFROM:+1300
TZOFFSETTO:+1200
TZNAME:NZST
DTSTART:20190406T140000
END:STANDARD
BEGIN:DAYLIGHT
TZOFFSETFROM:+1200
TZOFFSETTO:+1300
TZNAME:NZDT
DTSTART:20190928T140000
END:DAYLIGHT
BEGIN:STANDARD
TZOFFSETFROM:+1300
TZOFFSETTO:+1200
TZNAME:NZST
DTSTART:20200404T140000
END:STANDARD
BEGIN:DAYLIGHT
TZOFFSETFROM:+1200
TZOFFSETTO:+1300
TZNAME:NZDT
DTSTART:20200926T140000
END:DAYLIGHT
END:VTIMEZONE
BEGIN:VEVENT
DTSTART;VALUE=DATE:20181228
DTEND;VALUE=DATE:20190107
DTSTAMP:20260425T021338
CREATED:20180227T064322Z
LAST-MODIFIED:20180227T064322Z
UID:513-1545955200-1546819199@asg.org.nz
SUMMARY:Holiday / New Year Caving
DESCRIPTION:The huts booked\, so turn up and join the crew for\, well anything really…
URL:https://asg.org.nz/trips/holiday-new-year-caving/
LOCATION:Waitomo – Awatiro (club hut)\, 10km out of Waitomo\, New Zealand
CATEGORIES:Multi-day trip
END:VEVENT
BEGIN:VEVENT
DTSTART;VALUE=DATE:20190119
DTEND;VALUE=DATE:20190121
DTSTAMP:20260425T021338
CREATED:20190118T054958Z
LAST-MODIFIED:20190118T054958Z
UID:599-1547856000-1548028799@asg.org.nz
SUMMARY:Mangawhitikau Cave
DESCRIPTION:Weekend trip to Waitomo for the adventurous. \nSRT skills are required and old wetsuit recommended (though not to bad mid summer) for the epic journey. \nOrganised by HTG\, contact Jonathan Davis
URL:https://asg.org.nz/trips/mangawhitikau-cave-2/
LOCATION:Waitomo – Awatiro (club hut)\, 10km out of Waitomo\, New Zealand
CATEGORIES:Multi-day trip
END:VEVENT
BEGIN:VEVENT
DTSTART;VALUE=DATE:20190126
DTEND;VALUE=DATE:20190129
DTSTAMP:20260425T021338
CREATED:20180628T082612Z
LAST-MODIFIED:20180628T082612Z
UID:541-1548460800-1548719999@asg.org.nz
SUMMARY:Waipu - Auckland Anniversary Weekend
DESCRIPTION:Summer fun for all\, camping\, BBQ’s\, neat caves…
URL:https://asg.org.nz/trips/waipu-auckland-anniversary-weekend/
LOCATION:Waipu Caves\, Waipu\, North Island\, New Zealand
CATEGORIES:Multi-day trip
END:VEVENT
END:VCALENDAR