BEGIN:VCALENDAR
VERSION:2.0
PRODID:-//Auckland Speleo Group - ECPv6.15.13.1//NONSGML v1.0//EN
CALSCALE:GREGORIAN
METHOD:PUBLISH
X-ORIGINAL-URL:https://asg.org.nz
X-WR-CALDESC:Events for Auckland Speleo Group
REFRESH-INTERVAL;VALUE=DURATION:PT1H
X-Robots-Tag:noindex
X-PUBLISHED-TTL:PT1H
BEGIN:VTIMEZONE
TZID:Pacific/Auckland
BEGIN:STANDARD
TZOFFSETFROM:+1300
TZOFFSETTO:+1200
TZNAME:NZST
DTSTART:20180331T140000
END:STANDARD
BEGIN:DAYLIGHT
TZOFFSETFROM:+1200
TZOFFSETTO:+1300
TZNAME:NZDT
DTSTART:20180929T140000
END:DAYLIGHT
BEGIN:STANDARD
TZOFFSETFROM:+1300
TZOFFSETTO:+1200
TZNAME:NZST
DTSTART:20190406T140000
END:STANDARD
BEGIN:DAYLIGHT
TZOFFSETFROM:+1200
TZOFFSETTO:+1300
TZNAME:NZDT
DTSTART:20190928T140000
END:DAYLIGHT
BEGIN:STANDARD
TZOFFSETFROM:+1300
TZOFFSETTO:+1200
TZNAME:NZST
DTSTART:20200404T140000
END:STANDARD
BEGIN:DAYLIGHT
TZOFFSETFROM:+1200
TZOFFSETTO:+1300
TZNAME:NZDT
DTSTART:20200926T140000
END:DAYLIGHT
END:VTIMEZONE
BEGIN:VEVENT
DTSTART;VALUE=DATE:20190413
DTEND;VALUE=DATE:20190415
DTSTAMP:20260425T021629
CREATED:20190118T062102Z
LAST-MODIFIED:20190118T062102Z
UID:610-1555113600-1555286399@asg.org.nz
SUMMARY:Bone Yard Exchange Trip
DESCRIPTION:An entertaining expedition guaranteed\, what could possibly go wrong?!
URL:https://asg.org.nz/trips/bone-yard-exchange-trip/
LOCATION:Hamilton Tomo Group Hut\, 155 Caves Te Anga Road\, Waitomo\, New Zealand
CATEGORIES:Multi-day trip
END:VEVENT
BEGIN:VEVENT
DTSTART;VALUE=DATE:20190419
DTEND;VALUE=DATE:20190423
DTSTAMP:20260425T021629
CREATED:20190118T063222Z
LAST-MODIFIED:20190118T063222Z
UID:618-1555632000-1555977599@asg.org.nz
SUMMARY:Marakopa with HTG at Easter (Camping)
DESCRIPTION:Join HTG for Easter camping and caving!
URL:https://asg.org.nz/trips/marakopa-with-htg-at-easter-camping/
LOCATION:Hamilton Tomo Group Hut\, 155 Caves Te Anga Road\, Waitomo\, New Zealand
CATEGORIES:Multi-day trip
ORGANIZER;CN="TRIPS":MAILTO:trips@asg.org.nz
END:VEVENT
BEGIN:VEVENT
DTSTART;VALUE=DATE:20190419
DTEND;VALUE=DATE:20190429
DTSTAMP:20260425T021629
CREATED:20180628T082917Z
LAST-MODIFIED:20190118T062705Z
UID:543-1555632000-1556495999@asg.org.nz
SUMMARY:Fiordland / Te Anau
DESCRIPTION:Exploration trip for the adventurous.  Luxmore\, Auroa\, Jericho with Karl. (Glamping)
URL:https://asg.org.nz/trips/fiordland-te-anau/
LOCATION:Te Anau\, Te Anau\, New Zealand
CATEGORIES:Multi-day trip
END:VEVENT
BEGIN:VEVENT
DTSTART;VALUE=DATE:20190419
DTEND;VALUE=DATE:20190429
DTSTAMP:20260425T021629
CREATED:20190118T062948Z
LAST-MODIFIED:20190118T062948Z
UID:614-1555632000-1556495999@asg.org.nz
SUMMARY:West Coast/Golden Bay with NSG at Easter (Camping)
DESCRIPTION:Are you interested in caving with NSG?
URL:https://asg.org.nz/trips/west-coast-golden-bay-with-nsg-at-easter-camping/
LOCATION:NSG Club Hut\, Takaka Hill Road\, Golden Bay\, New Zealand
CATEGORIES:Multi-day trip
ORGANIZER;CN="TRIPS":MAILTO:trips@asg.org.nz
END:VEVENT
BEGIN:VEVENT
DTSTART;TZID=Pacific/Auckland:20190430T190000
DTEND;TZID=Pacific/Auckland:20190430T210000
DTSTAMP:20260425T021629
CREATED:20190118T063617Z
LAST-MODIFIED:20190118T063617Z
UID:620-1556650800-1556658000@asg.org.nz
SUMMARY:ASG Club Night April 2019
DESCRIPTION:Join us at the Remuera Club for tall stories\, lies and milk with cookies…
URL:https://asg.org.nz/trips/asg-club-night-april-2019/
LOCATION:Remuera Club\, 27-33 Ohinerau St\, Remuera\, Auckland\, 1050\, New Zealand
CATEGORIES:Club night
ORGANIZER;CN="INFO":MAILTO:info@asg.org.nz
END:VEVENT
END:VCALENDAR