BEGIN:VCALENDAR
VERSION:2.0
PRODID:-//Auckland Speleo Group - ECPv6.15.13.1//NONSGML v1.0//EN
CALSCALE:GREGORIAN
METHOD:PUBLISH
X-WR-CALNAME:Auckland Speleo Group
X-ORIGINAL-URL:https://asg.org.nz
X-WR-CALDESC:Events for Auckland Speleo Group
REFRESH-INTERVAL;VALUE=DURATION:PT1H
X-Robots-Tag:noindex
X-PUBLISHED-TTL:PT1H
BEGIN:VTIMEZONE
TZID:Pacific/Auckland
BEGIN:STANDARD
TZOFFSETFROM:+1300
TZOFFSETTO:+1200
TZNAME:NZST
DTSTART:20180331T140000
END:STANDARD
BEGIN:DAYLIGHT
TZOFFSETFROM:+1200
TZOFFSETTO:+1300
TZNAME:NZDT
DTSTART:20180929T140000
END:DAYLIGHT
BEGIN:STANDARD
TZOFFSETFROM:+1300
TZOFFSETTO:+1200
TZNAME:NZST
DTSTART:20190406T140000
END:STANDARD
BEGIN:DAYLIGHT
TZOFFSETFROM:+1200
TZOFFSETTO:+1300
TZNAME:NZDT
DTSTART:20190928T140000
END:DAYLIGHT
BEGIN:STANDARD
TZOFFSETFROM:+1300
TZOFFSETTO:+1200
TZNAME:NZST
DTSTART:20200404T140000
END:STANDARD
BEGIN:DAYLIGHT
TZOFFSETFROM:+1200
TZOFFSETTO:+1300
TZNAME:NZDT
DTSTART:20200926T140000
END:DAYLIGHT
END:VTIMEZONE
BEGIN:VEVENT
DTSTART;VALUE=DATE:20191012
DTEND;VALUE=DATE:20191014
DTSTAMP:20260425T064129
CREATED:20190622T060724Z
LAST-MODIFIED:20190622T060925Z
UID:672-1570838400-1571011199@asg.org.nz
SUMMARY:ASG Hut Working Bee - Gardiners TBC
DESCRIPTION:Its lambing time so access is difficult to many caves.  What better time to pay some love to the homely hut that is the ASG paradise in Waitomo.  Join in the fun and hilarity! \nSunday reward is Gardiners (TBC)…  So work hard 😉
URL:https://asg.org.nz/trips/asg-hut-working-bee-2/
LOCATION:Waitomo – Awatiro (club hut)\, 10km out of Waitomo\, New Zealand
CATEGORIES:Multi-day trip
ORGANIZER;CN="TOOLMAN":MAILTO:toolman@asg.org.nz
END:VEVENT
BEGIN:VEVENT
DTSTART;VALUE=DATE:20191025
DTEND;VALUE=DATE:20191029
DTSTAMP:20260425T064129
CREATED:20190622T061308Z
LAST-MODIFIED:20190622T061308Z
UID:678-1571961600-1572307199@asg.org.nz
SUMMARY:NZSS AGM
DESCRIPTION:This year the NZSS AGM will be hosted in the stunning West Coast – Charleston and hosted by CCG\, all skill levels welcomed. Start planning!!!
URL:https://asg.org.nz/trips/nzss-agm/
LOCATION:Charleston\, Charleston\, New Zealand
CATEGORIES:Multi-day trip
ORGANIZER;CN="INFO":MAILTO:info@asg.org.nz
END:VEVENT
BEGIN:VEVENT
DTSTART;TZID=Pacific/Auckland:20191029T190000
DTEND;TZID=Pacific/Auckland:20191029T210000
DTSTAMP:20260425T064129
CREATED:20190622T061611Z
LAST-MODIFIED:20190622T061611Z
UID:681-1572375600-1572382800@asg.org.nz
SUMMARY:ASG Club Night October 2019
DESCRIPTION:Join us at the Remuera Club for tall stories\, lies and milk with cookies…
URL:https://asg.org.nz/trips/asg-club-night-october-2019/
LOCATION:Remuera Club\, 27-33 Ohinerau St\, Remuera\, Auckland\, 1050\, New Zealand
CATEGORIES:Club night
ORGANIZER;CN="INFO":MAILTO:info@asg.org.nz
END:VEVENT
END:VCALENDAR