BEGIN:VCALENDAR
VERSION:2.0
PRODID:-//Auckland Speleo Group - ECPv6.15.13.1//NONSGML v1.0//EN
CALSCALE:GREGORIAN
METHOD:PUBLISH
X-WR-CALNAME:Auckland Speleo Group
X-ORIGINAL-URL:https://asg.org.nz
X-WR-CALDESC:Events for Auckland Speleo Group
REFRESH-INTERVAL;VALUE=DURATION:PT1H
X-Robots-Tag:noindex
X-PUBLISHED-TTL:PT1H
BEGIN:VTIMEZONE
TZID:Pacific/Auckland
BEGIN:STANDARD
TZOFFSETFROM:+1300
TZOFFSETTO:+1200
TZNAME:NZST
DTSTART:20190406T140000
END:STANDARD
BEGIN:DAYLIGHT
TZOFFSETFROM:+1200
TZOFFSETTO:+1300
TZNAME:NZDT
DTSTART:20190928T140000
END:DAYLIGHT
BEGIN:STANDARD
TZOFFSETFROM:+1300
TZOFFSETTO:+1200
TZNAME:NZST
DTSTART:20200404T140000
END:STANDARD
BEGIN:DAYLIGHT
TZOFFSETFROM:+1200
TZOFFSETTO:+1300
TZNAME:NZDT
DTSTART:20200926T140000
END:DAYLIGHT
BEGIN:STANDARD
TZOFFSETFROM:+1300
TZOFFSETTO:+1200
TZNAME:NZST
DTSTART:20210403T140000
END:STANDARD
BEGIN:DAYLIGHT
TZOFFSETFROM:+1200
TZOFFSETTO:+1300
TZNAME:NZDT
DTSTART:20210925T140000
END:DAYLIGHT
END:VTIMEZONE
BEGIN:VEVENT
DTSTART;VALUE=DATE:20200704
DTEND;VALUE=DATE:20200706
DTSTAMP:20260425T230158
CREATED:20200630T212704Z
LAST-MODIFIED:20200630T212704Z
UID:757-1593820800-1593993599@asg.org.nz
SUMMARY:Waitomo cave conservation weekend
DESCRIPTION:Dave Ellacott is running a cave cleanup weekend in one or two Waitomo caves. We’ll be cleaning formations and adding better route markings.
URL:https://asg.org.nz/trips/waitomo-cave-conservation-weekend/
LOCATION:Waitomo – Awatiro (club hut)\, 10km out of Waitomo\, New Zealand
ORGANIZER;CN="David Ellacott":MAILTO:davidellacott@gmail.com
END:VEVENT
BEGIN:VEVENT
DTSTART;VALUE=DATE:20200711
DTEND;VALUE=DATE:20200713
DTSTAMP:20260425T230158
CREATED:20200220T061505Z
LAST-MODIFIED:20200630T213053Z
UID:747-1594425600-1594598399@asg.org.nz
SUMMARY:Mahoenui - Hangover Hole
DESCRIPTION:Trip based at our club hut to go to the rarely visited cave Hangover Hole.
URL:https://asg.org.nz/trips/waitomo-caving-trip-2/
LOCATION:Waitomo – Awatiro (club hut)\, 10km out of Waitomo\, New Zealand
CATEGORIES:Multi-day trip
END:VEVENT
BEGIN:VEVENT
DTSTART;VALUE=DATE:20200725
DTEND;VALUE=DATE:20200727
DTSTAMP:20260425T230158
CREATED:20200702T081807Z
LAST-MODIFIED:20200702T081807Z
UID:764-1595635200-1595807999@asg.org.nz
SUMMARY:Surveying Weekend
DESCRIPTION:What is surveying\, why do it\, and… how… Learn the basics\, become a contributor to the resource we value so much!
URL:https://asg.org.nz/trips/surveying-weekend/
LOCATION:Waitomo – Awatiro (club hut)\, 10km out of Waitomo\, New Zealand
CATEGORIES:Multi-day trip
END:VEVENT
BEGIN:VEVENT
DTSTART;TZID=Pacific/Auckland:20200729T193000
DTEND;TZID=Pacific/Auckland:20200729T220000
DTSTAMP:20260425T230158
CREATED:20200220T061200Z
LAST-MODIFIED:20200220T061200Z
UID:743-1596051000-1596060000@asg.org.nz
SUMMARY:ASG Club Night July 2020
DESCRIPTION:Join us at the Remuera Club for some brief seriousness\, then tall stories\, awards with lies and milk with cookies…
URL:https://asg.org.nz/trips/asg-club-night-july-2020/
LOCATION:Remuera Club\, 27-33 Ohinerau St\, Remuera\, Auckland\, 1050\, New Zealand
CATEGORIES:Club night
ORGANIZER;CN="PRESIDENT":MAILTO:president@asg.org.nz
END:VEVENT
END:VCALENDAR