BEGIN:VCALENDAR
VERSION:2.0
PRODID:-//Auckland Speleo Group - ECPv6.15.13.1//NONSGML v1.0//EN
CALSCALE:GREGORIAN
METHOD:PUBLISH
X-WR-CALNAME:Auckland Speleo Group
X-ORIGINAL-URL:https://asg.org.nz
X-WR-CALDESC:Events for Auckland Speleo Group
REFRESH-INTERVAL;VALUE=DURATION:PT1H
X-Robots-Tag:noindex
X-PUBLISHED-TTL:PT1H
BEGIN:VTIMEZONE
TZID:Pacific/Auckland
BEGIN:STANDARD
TZOFFSETFROM:+1300
TZOFFSETTO:+1200
TZNAME:NZST
DTSTART:20190406T140000
END:STANDARD
BEGIN:DAYLIGHT
TZOFFSETFROM:+1200
TZOFFSETTO:+1300
TZNAME:NZDT
DTSTART:20190928T140000
END:DAYLIGHT
BEGIN:STANDARD
TZOFFSETFROM:+1300
TZOFFSETTO:+1200
TZNAME:NZST
DTSTART:20200404T140000
END:STANDARD
BEGIN:DAYLIGHT
TZOFFSETFROM:+1200
TZOFFSETTO:+1300
TZNAME:NZDT
DTSTART:20200926T140000
END:DAYLIGHT
BEGIN:STANDARD
TZOFFSETFROM:+1300
TZOFFSETTO:+1200
TZNAME:NZST
DTSTART:20210403T140000
END:STANDARD
BEGIN:DAYLIGHT
TZOFFSETFROM:+1200
TZOFFSETTO:+1300
TZNAME:NZDT
DTSTART:20210925T140000
END:DAYLIGHT
END:VTIMEZONE
BEGIN:VEVENT
DTSTART;TZID=Pacific/Auckland:20200802T090000
DTEND;TZID=Pacific/Auckland:20200802T140000
DTSTAMP:20260426T005619
CREATED:20200702T082159Z
LAST-MODIFIED:20200702T082159Z
UID:766-1596358800-1596376800@asg.org.nz
SUMMARY:Maungarei Springs
DESCRIPTION:An all round rigging refresher by legend rigger Shanan Fraser (thats not beer either)
URL:https://asg.org.nz/trips/maungarei-springs/
LOCATION:Maungarei Springs\, Tephra Blvd\, Stonefields\, Auckland\, 1072\, New Zealand
CATEGORIES:Training
END:VEVENT
BEGIN:VEVENT
DTSTART;VALUE=DATE:20200808
DTEND;VALUE=DATE:20200810
DTSTAMP:20260426T005619
CREATED:20200702T082430Z
LAST-MODIFIED:20200702T082430Z
UID:768-1596844800-1597017599@asg.org.nz
SUMMARY:Waitomo Caving TBA
DESCRIPTION:Yet to be decided\, it will be awesome regardless.  The hut has a fire place!
URL:https://asg.org.nz/trips/waitomo-caving-tba/
LOCATION:Waitomo – Awatiro (club hut)\, 10km out of Waitomo\, New Zealand
CATEGORIES:Multi-day trip
END:VEVENT
BEGIN:VEVENT
DTSTART;VALUE=DATE:20200815
DTEND;VALUE=DATE:20200816
DTSTAMP:20260426T005619
CREATED:20200702T083012Z
LAST-MODIFIED:20200702T085451Z
UID:770-1597449600-1597535999@asg.org.nz
SUMMARY:Waipu (A trip for smaller cavers)
DESCRIPTION:A trip to Bassett Road or the 32 inch entrance of Master Cave. Gary Sands trip for smaller cavers – its tight’n’mean up at Waipu!! \nPete will arrange trips for the “fuller figure” caver. \nFinished by a trip to the Waipu Pub with its fantastic craft beer and great pizza.
URL:https://asg.org.nz/trips/waipu-a-trip-for-smaller-cavers/
LOCATION:Waipu Caves\, Waipu\, North Island\, New Zealand
CATEGORIES:Day trip
END:VEVENT
BEGIN:VEVENT
DTSTART;TZID=Pacific/Auckland:20200826T190000
DTEND;TZID=Pacific/Auckland:20200826T210000
DTSTAMP:20260426T005619
CREATED:20200702T083231Z
LAST-MODIFIED:20200702T083231Z
UID:773-1598468400-1598475600@asg.org.nz
SUMMARY:ASG Club Night August 2020
DESCRIPTION:Join us at the Remuera Club for some brief seriousness\, then tall stories\, awards with lies and milk with cookies…
URL:https://asg.org.nz/trips/asg-club-night-august-2020/
LOCATION:Remuera Club\, 27-33 Ohinerau St\, Remuera\, Auckland\, 1050\, New Zealand
CATEGORIES:Club night
ORGANIZER;CN="PRESIDENT":MAILTO:president@asg.org.nz
END:VEVENT
END:VCALENDAR