BEGIN:VCALENDAR
VERSION:2.0
PRODID:-//Auckland Speleo Group - ECPv6.15.13.1//NONSGML v1.0//EN
CALSCALE:GREGORIAN
METHOD:PUBLISH
X-WR-CALNAME:Auckland Speleo Group
X-ORIGINAL-URL:https://asg.org.nz
X-WR-CALDESC:Events for Auckland Speleo Group
REFRESH-INTERVAL;VALUE=DURATION:PT1H
X-Robots-Tag:noindex
X-PUBLISHED-TTL:PT1H
BEGIN:VTIMEZONE
TZID:Pacific/Auckland
BEGIN:STANDARD
TZOFFSETFROM:+1300
TZOFFSETTO:+1200
TZNAME:NZST
DTSTART:20190406T140000
END:STANDARD
BEGIN:DAYLIGHT
TZOFFSETFROM:+1200
TZOFFSETTO:+1300
TZNAME:NZDT
DTSTART:20190928T140000
END:DAYLIGHT
BEGIN:STANDARD
TZOFFSETFROM:+1300
TZOFFSETTO:+1200
TZNAME:NZST
DTSTART:20200404T140000
END:STANDARD
BEGIN:DAYLIGHT
TZOFFSETFROM:+1200
TZOFFSETTO:+1300
TZNAME:NZDT
DTSTART:20200926T140000
END:DAYLIGHT
BEGIN:STANDARD
TZOFFSETFROM:+1300
TZOFFSETTO:+1200
TZNAME:NZST
DTSTART:20210403T140000
END:STANDARD
BEGIN:DAYLIGHT
TZOFFSETFROM:+1200
TZOFFSETTO:+1300
TZNAME:NZDT
DTSTART:20210925T140000
END:DAYLIGHT
END:VTIMEZONE
BEGIN:VEVENT
DTSTART;VALUE=DATE:20201010
DTEND;VALUE=DATE:20201012
DTSTAMP:20260426T042546
CREATED:20200702T083948Z
LAST-MODIFIED:20200702T083948Z
UID:781-1602288000-1602460799@asg.org.nz
SUMMARY:Club caving trip
DESCRIPTION:Yet to be decided\, watch this space 😀
URL:https://asg.org.nz/trips/club-caving-trip/
LOCATION:Waitomo – Awatiro (club hut)\, 10km out of Waitomo\, New Zealand
CATEGORIES:Multi-day trip
END:VEVENT
BEGIN:VEVENT
DTSTART;TZID=Pacific/Auckland:20201027T190000
DTEND;TZID=Pacific/Auckland:20201028T210000
DTSTAMP:20260426T042546
CREATED:20200702T084057Z
LAST-MODIFIED:20200923T232100Z
UID:783-1603825200-1603918800@asg.org.nz
SUMMARY:ASG Club Night October 2020
DESCRIPTION:Join us at the Remuera Club for our monthly meeting over food and drinks.
URL:https://asg.org.nz/trips/asg-club-night-october-2020/
LOCATION:Remuera Club\, 27-33 Ohinerau St\, Remuera\, Auckland\, 1050\, New Zealand
CATEGORIES:Club night
ORGANIZER;CN="PRESIDENT":MAILTO:president@asg.org.nz
END:VEVENT
BEGIN:VEVENT
DTSTART;VALUE=DATE:20201031
DTEND;VALUE=DATE:20201102
DTSTAMP:20260426T042546
CREATED:20200702T084351Z
LAST-MODIFIED:20200705T035100Z
UID:785-1604102400-1604275199@asg.org.nz
SUMMARY:Hut Working Beeeee
DESCRIPTION:Beeeee there! Our hut is bloody awesome\, and sometime needs your love…. There might even be caving…
URL:https://asg.org.nz/trips/hut-working-beeeee/
LOCATION:Waitomo – Awatiro (club hut)\, 10km out of Waitomo\, New Zealand
CATEGORIES:Multi-day trip
END:VEVENT
END:VCALENDAR