BEGIN:VCALENDAR
VERSION:2.0
PRODID:-//Auckland Speleo Group - ECPv6.15.13.1//NONSGML v1.0//EN
CALSCALE:GREGORIAN
METHOD:PUBLISH
X-WR-CALNAME:Auckland Speleo Group
X-ORIGINAL-URL:https://asg.org.nz
X-WR-CALDESC:Events for Auckland Speleo Group
REFRESH-INTERVAL;VALUE=DURATION:PT1H
X-Robots-Tag:noindex
X-PUBLISHED-TTL:PT1H
BEGIN:VTIMEZONE
TZID:Pacific/Auckland
BEGIN:STANDARD
TZOFFSETFROM:+1300
TZOFFSETTO:+1200
TZNAME:NZST
DTSTART:20200404T140000
END:STANDARD
BEGIN:DAYLIGHT
TZOFFSETFROM:+1200
TZOFFSETTO:+1300
TZNAME:NZDT
DTSTART:20200926T140000
END:DAYLIGHT
BEGIN:STANDARD
TZOFFSETFROM:+1300
TZOFFSETTO:+1200
TZNAME:NZST
DTSTART:20210403T140000
END:STANDARD
BEGIN:DAYLIGHT
TZOFFSETFROM:+1200
TZOFFSETTO:+1300
TZNAME:NZDT
DTSTART:20210925T140000
END:DAYLIGHT
BEGIN:STANDARD
TZOFFSETFROM:+1300
TZOFFSETTO:+1200
TZNAME:NZST
DTSTART:20220402T140000
END:STANDARD
BEGIN:DAYLIGHT
TZOFFSETFROM:+1200
TZOFFSETTO:+1300
TZNAME:NZDT
DTSTART:20220924T140000
END:DAYLIGHT
END:VTIMEZONE
BEGIN:VEVENT
DTSTART;TZID=Pacific/Auckland:20210127T190000
DTEND;TZID=Pacific/Auckland:20210127T210000
DTSTAMP:20260426T095505
CREATED:20210123T205704Z
LAST-MODIFIED:20210123T205704Z
UID:814-1611774000-1611781200@asg.org.nz
SUMMARY:ASG Club Night January 2021
DESCRIPTION:Our first club night of 2021.  Grab a picnic dinner or some fish and chips and come and hang out.  Meeting at the Coyle Park end of the beach.
URL:https://asg.org.nz/trips/asg-club-night-january-2021/
LOCATION:Pt Chevalier Beach
END:VEVENT
BEGIN:VEVENT
DTSTART;VALUE=DATE:20210130
DTEND;VALUE=DATE:20210202
DTSTAMP:20260426T095505
CREATED:20210123T210801Z
LAST-MODIFIED:20210123T211033Z
UID:820-1611964800-1612223999@asg.org.nz
SUMMARY:Auckland Anniversay Weekend Hut Booking
DESCRIPTION:The Hut is booked for the club on Auckland Anniversary Weekend.  This weekend has no formal trip organised but is an opportunity to come down and relax at the Hut or as a base for any personal trips.
URL:https://asg.org.nz/trips/auckland-anniversay-weekend-hut-booking/
LOCATION:Waitomo – Awatiro (club hut)\, 10km out of Waitomo\, New Zealand
END:VEVENT
END:VCALENDAR