BEGIN:VCALENDAR
VERSION:2.0
PRODID:-//Auckland Speleo Group - ECPv6.15.13.1//NONSGML v1.0//EN
CALSCALE:GREGORIAN
METHOD:PUBLISH
X-ORIGINAL-URL:https://asg.org.nz
X-WR-CALDESC:Events for Auckland Speleo Group
REFRESH-INTERVAL;VALUE=DURATION:PT1H
X-Robots-Tag:noindex
X-PUBLISHED-TTL:PT1H
BEGIN:VTIMEZONE
TZID:Pacific/Auckland
BEGIN:STANDARD
TZOFFSETFROM:+1300
TZOFFSETTO:+1200
TZNAME:NZST
DTSTART:20200404T140000
END:STANDARD
BEGIN:DAYLIGHT
TZOFFSETFROM:+1200
TZOFFSETTO:+1300
TZNAME:NZDT
DTSTART:20200926T140000
END:DAYLIGHT
BEGIN:STANDARD
TZOFFSETFROM:+1300
TZOFFSETTO:+1200
TZNAME:NZST
DTSTART:20210403T140000
END:STANDARD
BEGIN:DAYLIGHT
TZOFFSETFROM:+1200
TZOFFSETTO:+1300
TZNAME:NZDT
DTSTART:20210925T140000
END:DAYLIGHT
BEGIN:STANDARD
TZOFFSETFROM:+1300
TZOFFSETTO:+1200
TZNAME:NZST
DTSTART:20220402T140000
END:STANDARD
BEGIN:DAYLIGHT
TZOFFSETFROM:+1200
TZOFFSETTO:+1300
TZNAME:NZDT
DTSTART:20220924T140000
END:DAYLIGHT
END:VTIMEZONE
BEGIN:VEVENT
DTSTART;VALUE=DATE:20210313
DTEND;VALUE=DATE:20210315
DTSTAMP:20260426T130615
CREATED:20210210T004823Z
LAST-MODIFIED:20210210T004823Z
UID:838-1615593600-1615766399@asg.org.nz
SUMMARY:Rimu Togyp/Ozzy Cave @ Rauroa
DESCRIPTION:We haven’t been here in a while! Some good caving to be had. TBC
URL:https://asg.org.nz/trips/rimu-togyp-ozzy-cave-rauroa/
END:VEVENT
BEGIN:VEVENT
DTSTART;TZID=Pacific/Auckland:20210331T190000
DTEND;TZID=Pacific/Auckland:20210331T210000
DTSTAMP:20260426T130615
CREATED:20210210T003528Z
LAST-MODIFIED:20210306T200359Z
UID:830-1617217200-1617224400@asg.org.nz
SUMMARY:ASG Club Night March 2021
DESCRIPTION:Join us at the Remuera Club. This month features a talk and amazing photography from George about Mammoth Cave!
URL:https://asg.org.nz/trips/asg-club-night-march-2021/
LOCATION:Remuera Club\, 27-33 Ohinerau St\, Remuera\, Auckland\, 1050\, New Zealand
END:VEVENT
END:VCALENDAR