BEGIN:VCALENDAR
VERSION:2.0
PRODID:-//Auckland Speleo Group - ECPv6.15.13.1//NONSGML v1.0//EN
CALSCALE:GREGORIAN
METHOD:PUBLISH
X-WR-CALNAME:Auckland Speleo Group
X-ORIGINAL-URL:https://asg.org.nz
X-WR-CALDESC:Events for Auckland Speleo Group
REFRESH-INTERVAL;VALUE=DURATION:PT1H
X-Robots-Tag:noindex
X-PUBLISHED-TTL:PT1H
BEGIN:VTIMEZONE
TZID:Pacific/Auckland
BEGIN:STANDARD
TZOFFSETFROM:+1300
TZOFFSETTO:+1200
TZNAME:NZST
DTSTART:20200404T140000
END:STANDARD
BEGIN:DAYLIGHT
TZOFFSETFROM:+1200
TZOFFSETTO:+1300
TZNAME:NZDT
DTSTART:20200926T140000
END:DAYLIGHT
BEGIN:STANDARD
TZOFFSETFROM:+1300
TZOFFSETTO:+1200
TZNAME:NZST
DTSTART:20210403T140000
END:STANDARD
BEGIN:DAYLIGHT
TZOFFSETFROM:+1200
TZOFFSETTO:+1300
TZNAME:NZDT
DTSTART:20210925T140000
END:DAYLIGHT
BEGIN:STANDARD
TZOFFSETFROM:+1300
TZOFFSETTO:+1200
TZNAME:NZST
DTSTART:20220402T140000
END:STANDARD
BEGIN:DAYLIGHT
TZOFFSETFROM:+1200
TZOFFSETTO:+1300
TZNAME:NZDT
DTSTART:20220924T140000
END:DAYLIGHT
END:VTIMEZONE
BEGIN:VEVENT
DTSTART;VALUE=DATE:20210501
DTEND;VALUE=DATE:20210502
DTSTAMP:20260426T155111
CREATED:20210322T221708Z
LAST-MODIFIED:20210322T221708Z
UID:854-1619827200-1619913599@asg.org.nz
SUMMARY:CaveSAR Rescue Rigging
DESCRIPTION:Half day rescue rigging practice. Venue TBC
URL:https://asg.org.nz/trips/cavesar-rescue-rigging/
LOCATION:TBC
END:VEVENT
BEGIN:VEVENT
DTSTART;VALUE=DATE:20210508
DTEND;VALUE=DATE:20210510
DTSTAMP:20260426T155111
CREATED:20210210T005338Z
LAST-MODIFIED:20210210T005338Z
UID:842-1620432000-1620604799@asg.org.nz
SUMMARY:NI SAREX
DESCRIPTION:The North Island SAREX in Waitomo.
URL:https://asg.org.nz/trips/ni-sarex/
LOCATION:Waitomo – Awatiro (club hut)\, 10km out of Waitomo\, New Zealand
END:VEVENT
BEGIN:VEVENT
DTSTART;VALUE=DATE:20210516
DTEND;VALUE=DATE:20210517
DTSTAMP:20260426T155111
CREATED:20210430T072301Z
LAST-MODIFIED:20210430T072301Z
UID:889-1621123200-1621209599@asg.org.nz
SUMMARY:May Club Trip - Waipu
DESCRIPTION:If there is enough interest we could have multiple options running as follows. \nTourist Cave: self-guided return trip. Good glow worm wall\, a bit of exploring through multiple linking passageways. Between 30min and 2hours depending on how far back you go. Option to abseil through the roof approx 20m. \nMaster Cave: rather tight entrance\, big cavern walk\, some nice pretties. \nTwo Tone: various entrance and exit options\, 2m – 8m vertical drops on handling or abseiling. Crawls\, jumps\, swims\, ducks. Wetsuit highly recommended. $10 per head to landowner for access. \nElver Canyon: SRT cave with multiple pitches. \nCarpoolers meet at Adventure Specialties Trust at 8am otherwise meet at Waipu Caves carpark at 10:30.
URL:https://asg.org.nz/trips/may-club-trip-waipu/
LOCATION:Waipu Caves\, Waipu\, North Island\, New Zealand
CATEGORIES:Day trip
END:VEVENT
BEGIN:VEVENT
DTSTART;TZID=Pacific/Auckland:20210526T190000
DTEND;TZID=Pacific/Auckland:20210526T210000
DTSTAMP:20260426T155111
CREATED:20210210T004156Z
LAST-MODIFIED:20210210T004156Z
UID:834-1622055600-1622062800@asg.org.nz
SUMMARY:ASG Club Night May 2021
DESCRIPTION:Join us at the Remuera Club for our monthly meeting over food and drinks.
URL:https://asg.org.nz/trips/asg-club-night-may-2021/
LOCATION:Remuera Club\, 27-33 Ohinerau St\, Remuera\, Auckland\, 1050\, New Zealand
END:VEVENT
END:VCALENDAR