BEGIN:VCALENDAR
VERSION:2.0
PRODID:-//Auckland Speleo Group - ECPv6.15.13.1//NONSGML v1.0//EN
CALSCALE:GREGORIAN
METHOD:PUBLISH
X-ORIGINAL-URL:https://asg.org.nz
X-WR-CALDESC:Events for Auckland Speleo Group
REFRESH-INTERVAL;VALUE=DURATION:PT1H
X-Robots-Tag:noindex
X-PUBLISHED-TTL:PT1H
BEGIN:VTIMEZONE
TZID:Pacific/Auckland
BEGIN:STANDARD
TZOFFSETFROM:+1300
TZOFFSETTO:+1200
TZNAME:NZST
DTSTART:20230401T140000
END:STANDARD
BEGIN:DAYLIGHT
TZOFFSETFROM:+1200
TZOFFSETTO:+1300
TZNAME:NZDT
DTSTART:20230923T140000
END:DAYLIGHT
BEGIN:STANDARD
TZOFFSETFROM:+1300
TZOFFSETTO:+1200
TZNAME:NZST
DTSTART:20240406T140000
END:STANDARD
BEGIN:DAYLIGHT
TZOFFSETFROM:+1200
TZOFFSETTO:+1300
TZNAME:NZDT
DTSTART:20240928T140000
END:DAYLIGHT
BEGIN:STANDARD
TZOFFSETFROM:+1300
TZOFFSETTO:+1200
TZNAME:NZST
DTSTART:20250405T140000
END:STANDARD
BEGIN:DAYLIGHT
TZOFFSETFROM:+1200
TZOFFSETTO:+1300
TZNAME:NZDT
DTSTART:20250927T140000
END:DAYLIGHT
END:VTIMEZONE
BEGIN:VEVENT
DTSTART;TZID=Pacific/Auckland:20240803T100000
DTEND;TZID=Pacific/Auckland:20240803T140000
DTSTAMP:20260426T150635
CREATED:20240728T214641Z
LAST-MODIFIED:20240728T214641Z
UID:1193-1722679200-1722693600@asg.org.nz
SUMMARY:Self-rescue practice - training exercise
DESCRIPTION:We will run a workshop on how to self rescue as a group. This will be from 10am at Stonefields\, Barbarich Drive\, Mount Wellington\, Auckland 1072. Bring the gear you would normally take on a vertical caving trip. We will talk through what to do if you get flooded\, appropriate response for different situations and try various techniques with what gear you have to get out of a sticky situation.
URL:https://asg.org.nz/trips/self-rescue-practice-training-exercise/
LOCATION:Maungarei Springs\, Tephra Blvd\, Stonefields\, Auckland\, 1072\, New Zealand
CATEGORIES:Training
END:VEVENT
BEGIN:VEVENT
DTSTART;TZID=Pacific/Auckland:20240810T080000
DTEND;TZID=Pacific/Auckland:20240811T170000
DTSTAMP:20260426T150635
CREATED:20240302T042006Z
LAST-MODIFIED:20240303T075537Z
UID:1130-1723276800-1723395600@asg.org.nz
SUMMARY:August Caving Trip
DESCRIPTION:More Details TBD
URL:https://asg.org.nz/trips/sar-practice-session-2/
LOCATION:Waitomo – Awatiro (club hut)\, 10km out of Waitomo\, New Zealand
END:VEVENT
BEGIN:VEVENT
DTSTART;TZID=Pacific/Auckland:20240817T080000
DTEND;TZID=Pacific/Auckland:20240818T170000
DTSTAMP:20260426T150635
CREATED:20240303T074426Z
LAST-MODIFIED:20240303T075629Z
UID:1139-1723881600-1724000400@asg.org.nz
SUMMARY:CaveSAR Outdoor First Aid Training
DESCRIPTION:Awatiro\nFurther details TBD
URL:https://asg.org.nz/trips/cavesar-outdoor-first-aid-training/
LOCATION:Waitomo – Awatiro (club hut)\, 10km out of Waitomo\, New Zealand
ORGANIZER;CN="SAR":MAILTO:SAR@asg.org.nz
END:VEVENT
BEGIN:VEVENT
DTSTART;TZID=Pacific/Auckland:20240828T193000
DTEND;TZID=Pacific/Auckland:20240828T210000
DTSTAMP:20260426T150635
CREATED:20240303T080136Z
LAST-MODIFIED:20240826T232216Z
UID:1157-1724873400-1724878800@asg.org.nz
SUMMARY:August Social
DESCRIPTION:
URL:https://asg.org.nz/trips/august-social/
LOCATION:Adventure Specialties Trust\, 1/4 Winston Avenue\, Henderson\, Auckland\, New Zealand
END:VEVENT
END:VCALENDAR