BEGIN:VCALENDAR
VERSION:2.0
PRODID:-//Auckland Speleo Group - ECPv6.15.13.1//NONSGML v1.0//EN
CALSCALE:GREGORIAN
METHOD:PUBLISH
X-ORIGINAL-URL:https://asg.org.nz
X-WR-CALDESC:Events for Auckland Speleo Group
REFRESH-INTERVAL;VALUE=DURATION:PT1H
X-Robots-Tag:noindex
X-PUBLISHED-TTL:PT1H
BEGIN:VTIMEZONE
TZID:Pacific/Auckland
BEGIN:STANDARD
TZOFFSETFROM:+1300
TZOFFSETTO:+1200
TZNAME:NZST
DTSTART:20230401T140000
END:STANDARD
BEGIN:DAYLIGHT
TZOFFSETFROM:+1200
TZOFFSETTO:+1300
TZNAME:NZDT
DTSTART:20230923T140000
END:DAYLIGHT
BEGIN:STANDARD
TZOFFSETFROM:+1300
TZOFFSETTO:+1200
TZNAME:NZST
DTSTART:20240406T140000
END:STANDARD
BEGIN:DAYLIGHT
TZOFFSETFROM:+1200
TZOFFSETTO:+1300
TZNAME:NZDT
DTSTART:20240928T140000
END:DAYLIGHT
BEGIN:STANDARD
TZOFFSETFROM:+1300
TZOFFSETTO:+1200
TZNAME:NZST
DTSTART:20250405T140000
END:STANDARD
BEGIN:DAYLIGHT
TZOFFSETFROM:+1200
TZOFFSETTO:+1300
TZNAME:NZDT
DTSTART:20250927T140000
END:DAYLIGHT
END:VTIMEZONE
BEGIN:VEVENT
DTSTART;TZID=Pacific/Auckland:20241025T080000
DTEND;TZID=Pacific/Auckland:20241029T170000
DTSTAMP:20260426T120758
CREATED:20240303T074731Z
LAST-MODIFIED:20240303T075705Z
UID:1144-1729843200-1730221200@asg.org.nz
SUMMARY:NZSS AGM
DESCRIPTION:This year will be the NZSS’ 70th birthday and ASG are hosting the AGM event. There will be loads of great caving trips\, a dinner\, a BBQ\, fun events and a single hour of AGM. \nThis is a great way to meet other cavers from different clubs and get to do some new caves. \nEvents likely to be held at HTG and ASG huts\, but further details TBA. \nContact = Dave Ellacott
URL:https://asg.org.nz/trips/nzss-agm-2/
ORGANIZER;CN="David Ellacott":MAILTO:davidellacott@gmail.com
END:VEVENT
BEGIN:VEVENT
DTSTART;TZID=Pacific/Auckland:20241030T193000
DTEND;TZID=Pacific/Auckland:20241030T210000
DTSTAMP:20260426T120758
CREATED:20240929T074939Z
LAST-MODIFIED:20240929T074939Z
UID:1202-1730316600-1730322000@asg.org.nz
SUMMARY:Club Social / Training
DESCRIPTION:Come practice your SRT\, Ladder climbing\, rigging or just hang out and chat with your fellow cavers. \n  \nLocation = Adventure Specialties Trust\, 1/4 Winston Place\, Henderson\, Waitakere 0610
URL:https://asg.org.nz/trips/club-social-training/
LOCATION:Adventure Specialties Trust\, 1/4 Winston Avenue\, Henderson\, Auckland\, New Zealand
ORGANIZER;CN="TRIPS":MAILTO:trips@asg.org.nz
END:VEVENT
END:VCALENDAR