BEGIN:VCALENDAR
VERSION:2.0
PRODID:-//Auckland Speleo Group - ECPv6.15.13.1//NONSGML v1.0//EN
CALSCALE:GREGORIAN
METHOD:PUBLISH
X-ORIGINAL-URL:https://asg.org.nz
X-WR-CALDESC:Events for Auckland Speleo Group
REFRESH-INTERVAL;VALUE=DURATION:PT1H
X-Robots-Tag:noindex
X-PUBLISHED-TTL:PT1H
BEGIN:VTIMEZONE
TZID:Pacific/Auckland
BEGIN:STANDARD
TZOFFSETFROM:+1300
TZOFFSETTO:+1200
TZNAME:NZST
DTSTART:20240406T140000
END:STANDARD
BEGIN:DAYLIGHT
TZOFFSETFROM:+1200
TZOFFSETTO:+1300
TZNAME:NZDT
DTSTART:20240928T140000
END:DAYLIGHT
BEGIN:STANDARD
TZOFFSETFROM:+1300
TZOFFSETTO:+1200
TZNAME:NZST
DTSTART:20250405T140000
END:STANDARD
BEGIN:DAYLIGHT
TZOFFSETFROM:+1200
TZOFFSETTO:+1300
TZNAME:NZDT
DTSTART:20250927T140000
END:DAYLIGHT
BEGIN:STANDARD
TZOFFSETFROM:+1300
TZOFFSETTO:+1200
TZNAME:NZST
DTSTART:20260404T140000
END:STANDARD
BEGIN:DAYLIGHT
TZOFFSETFROM:+1200
TZOFFSETTO:+1300
TZNAME:NZDT
DTSTART:20260926T140000
END:DAYLIGHT
END:VTIMEZONE
BEGIN:VEVENT
DTSTART;TZID=Pacific/Auckland:20250517T080000
DTEND;TZID=Pacific/Auckland:20250518T170000
DTSTAMP:20260425T235402
CREATED:20241118T094100Z
LAST-MODIFIED:20241118T094100Z
UID:1225-1747468800-1747587600@asg.org.nz
SUMMARY:ASG Club Trip
DESCRIPTION:TBD \nLeader: Kevin Jose
URL:https://asg.org.nz/trips/asg-club-trip-5/
LOCATION:Waitomo – Awatiro (club hut)\, 10km out of Waitomo\, New Zealand
ORGANIZER;CN="TRIPS":MAILTO:trips@asg.org.nz
END:VEVENT
BEGIN:VEVENT
DTSTART;TZID=Pacific/Auckland:20250528T190000
DTEND;TZID=Pacific/Auckland:20250528T210000
DTSTAMP:20260425T235402
CREATED:20250520T075531Z
LAST-MODIFIED:20250520T075829Z
UID:1258-1748458800-1748466000@asg.org.nz
SUMMARY:Movie Night
DESCRIPTION:The highlights featuring an impressive 54 hour cave rescue in South Wales. Well worth viewing! \nPlus some short TV videos starring our very own “Auckland’s Attenborough of Caves”. Who this ASG caver you may\nask? Come along to be enlightened\, as he has been invited to actually attend.
URL:https://asg.org.nz/trips/movie-night/
LOCATION:Pt Chevalier Homestead\, 92 Point Chevalier Road\, Point Chevalier\, Auckland\, New Zealand
END:VEVENT
END:VCALENDAR