BEGIN:VCALENDAR
VERSION:2.0
PRODID:-//Auckland Speleo Group - ECPv4.6.21//NONSGML v1.0//EN
CALSCALE:GREGORIAN
METHOD:PUBLISH
X-WR-CALNAME:Auckland Speleo Group
X-ORIGINAL-URL:https://asg.org.nz
X-WR-CALDESC:Events for Auckland Speleo Group
BEGIN:VEVENT
DTSTART;TZID=Pacific/Auckland:20170907T173000
DTEND;TZID=Pacific/Auckland:20170907T210000
DTSTAMP:20181224T095708
CREATED:20170822T072222Z
LAST-MODIFIED:20170822T072222Z
UID:454-1504805400-1504818000@asg.org.nz
SUMMARY:SRT/Rigging Training
DESCRIPTION:Contact Shanan for details \n
URL:https://asg.org.nz/trips/srtrigging-training-2/
LOCATION:Tephra Blvd\, Stonefields\, Auckland\, 1072\, New Zealand
CATEGORIES:Training
END:VEVENT
END:VCALENDAR