BEGIN:VCALENDAR
VERSION:2.0
PRODID:-//Auckland Speleo Group - ECPv4.9.11//NONSGML v1.0//EN
CALSCALE:GREGORIAN
METHOD:PUBLISH
X-WR-CALNAME:Auckland Speleo Group
X-ORIGINAL-URL:https://asg.org.nz
X-WR-CALDESC:Events for Auckland Speleo Group
BEGIN:VTIMEZONE
TZID:Pacific/Auckland
BEGIN:STANDARD
TZOFFSETFROM:+1300
TZOFFSETTO:+1200
TZNAME:NZST
DTSTART:20150404T140000
END:STANDARD
BEGIN:DAYLIGHT
TZOFFSETFROM:+1200
TZOFFSETTO:+1300
TZNAME:NZDT
DTSTART:20150926T140000
END:DAYLIGHT
END:VTIMEZONE
BEGIN:VEVENT
DTSTART;TZID=Pacific/Auckland:20150425T080000
DTEND;TZID=Pacific/Auckland:20150426T170000
DTSTAMP:20191223T101336
CREATED:20150112T202018Z
LAST-MODIFIED:20150310T181136Z
UID:190-1429948800-1430067600@asg.org.nz
SUMMARY:Working Bee - Waitomo
DESCRIPTION:Maintaining the Club Hut is a fun social weekend for the club\, and this valuable asset would not bet there without a little elbow grease all of us every now and again… \nJoin us in a few jobs\, and a great evening that follows.  A Blackwater Rafting trip could be a reward! \n
URL:https://asg.org.nz/trips/working-bee-waitomo/
LOCATION:Waitomo – Awatiro (club hut)\, 10km out of Waitomo\, New Zealand
CATEGORIES:Multi-day trip
END:VEVENT
END:VCALENDAR